BEGIN:VCALENDAR
VERSION:2.0
PRODID:-//astrosociety.org//NONSGML kigkonsult.se iCalcreator 2.30.10//
CALSCALE:GREGORIAN
METHOD:PUBLISH
UID:d96728cd-691d-440c-866a-31633ec25188
X-WR-CALDESC:By invitation only.
X-WR-RELCALID:ebc53cd00d98f173a065edfd1de0c272
X-WR-TIMEZONE:America/Los_Angeles
BEGIN:VTIMEZONE
TZID:America/Los_Angeles
BEGIN:STANDARD
TZNAME:PST
DTSTART:20181104T020000
TZOFFSETFROM:-0700
TZOFFSETTO:-0800
RDATE:20191103T020000
RDATE:20201101T020000
END:STANDARD
BEGIN:DAYLIGHT
TZNAME:PDT
DTSTART:20190310T020000
TZOFFSETFROM:-0800
TZOFFSETTO:-0700
RDATE:20200308T020000
END:DAYLIGHT
END:VTIMEZONE
BEGIN:VEVENT
UID:57869da1-dc1d-4feb-99bb-abda8d654c59
DTSTAMP:20260426T041752Z
DESCRIPTION:By invitation only.
DTSTART;TZID=America/Los_Angeles:20190613T090000
DTEND;TZID=America/Los_Angeles:20190616T170000
LOCATION:West Chester\, PA
SUMMARY:Project ASTRO National Network Site Leaders Meeting 2019
END:VEVENT
END:VCALENDAR
