BEGIN:VCALENDAR
VERSION:2.0
PRODID:-//astrosociety.org//NONSGML kigkonsult.se iCalcreator 2.30.10//
CALSCALE:GREGORIAN
METHOD:PUBLISH
UID:11eaa51b-25d0-4dff-a5cf-32266165ebf1
X-WR-CALDESC:
X-WR-RELCALID:2396708bb6687d3d79fab3108a881d5d
X-WR-TIMEZONE:America/Los_Angeles
BEGIN:VTIMEZONE
TZID:America/Los_Angeles
BEGIN:STANDARD
TZNAME:PST
DTSTART:20181104T020000
TZOFFSETFROM:-0700
TZOFFSETTO:-0800
RDATE:20191103T020000
RDATE:20201101T020000
END:STANDARD
BEGIN:DAYLIGHT
TZNAME:PDT
DTSTART:20190310T020000
TZOFFSETFROM:-0800
TZOFFSETTO:-0700
RDATE:20200308T020000
END:DAYLIGHT
END:VTIMEZONE
BEGIN:VEVENT
UID:80aceacd-7962-4a74-af60-71e411f77d23
DTSTAMP:20260426T010136Z
DESCRIPTION:
DTSTART;TZID=America/Los_Angeles:20190729T080000
DTEND;TZID=America/Los_Angeles:20190801T170000
LOCATION:
SUMMARY:TLC Summer Astronomy Institute (4 day workshop)
END:VEVENT
END:VCALENDAR
