BEGIN:VCALENDAR
VERSION:2.0
PRODID:-//astrosociety.org//NONSGML kigkonsult.se iCalcreator 2.30.10//
CALSCALE:GREGORIAN
METHOD:PUBLISH
UID:99201270-74c7-43a3-a1c5-8dfe7eaba943
X-WR-CALDESC:Dr. Eliot Quataert\, of U.C. Berkeley will talk about the firs
 t black hole image ever in the first of our Silicon Valley Lecture Series 
 for 2020.\n
X-WR-RELCALID:d6db214d800c3a940e82fbb045daab82
X-WR-TIMEZONE:America/Los_Angeles
BEGIN:VTIMEZONE
TZID:America/Los_Angeles
BEGIN:STANDARD
TZNAME:PST
DTSTART:20191103T020000
TZOFFSETFROM:-0700
TZOFFSETTO:-0800
RDATE:20201101T020000
END:STANDARD
BEGIN:DAYLIGHT
TZNAME:PDT
DTSTART:20190310T020000
TZOFFSETFROM:-0800
TZOFFSETTO:-0700
RDATE:20200308T020000
RDATE:20210314T020000
END:DAYLIGHT
END:VTIMEZONE
BEGIN:VEVENT
UID:7a73f80e-6039-41af-81f6-e82c5099bf88
DTSTAMP:20260425T140311Z
DESCRIPTION:Dr. Eliot Quataert\, of U.C. Berkeley will talk about the first
  black hole image ever in the first of our Silicon Valley Lecture Series f
 or 2020.\n
DTSTART;TZID=America/Los_Angeles:20200122T190000
DTEND;TZID=America/Los_Angeles:20200122T210000
LOCATION:Foothill College\, Lost Altos Hills\, CA
SUMMARY:Silicon Valley Lectures Series: Dr. Eliot Quataert\, of the Univers
 ity of California\, Berkeley
END:VEVENT
END:VCALENDAR
