BEGIN:VCALENDAR
VERSION:2.0
PRODID:-//astrosociety.org//NONSGML kigkonsult.se iCalcreator 2.30.10//
CALSCALE:GREGORIAN
METHOD:PUBLISH
UID:7b001edf-ca37-49b1-bedb-2938ab0bad68
X-WR-CALDESC:Join us for the live online premiere on September 26th of the 
 360° virtual film Big Astronomy: People\, Places\, Discoveries. Big Astron
 omy will take viewers to Chile\, where 70% of the world's largest telescop
 es sit atop desert incredible mountains. Find out what it takes to run the
 se observatories and how they bring us the wonders of the universe by watc
 hing the premier of the show on the Big Astronomy YouTube Channel.
X-WR-RELCALID:afb2c01d167e0b1739518bf083780fa6
X-WR-TIMEZONE:America/Los_Angeles
BEGIN:VTIMEZONE
TZID:America/Los_Angeles
BEGIN:STANDARD
TZNAME:PST
DTSTART:20191103T020000
TZOFFSETFROM:-0700
TZOFFSETTO:-0800
RDATE:20201101T020000
RDATE:20211107T020000
END:STANDARD
BEGIN:DAYLIGHT
TZNAME:PDT
DTSTART:20200308T020000
TZOFFSETFROM:-0800
TZOFFSETTO:-0700
RDATE:20210314T020000
RDATE:20220313T020000
END:DAYLIGHT
END:VTIMEZONE
BEGIN:VEVENT
UID:e7b057c7-409b-4029-83dc-fbefe2d9a5f5
DTSTAMP:20260425T000438Z
DESCRIPTION:Join us for the live online premiere on September 26th of the 3
 60° virtual film Big Astronomy: People\, Places\, Discoveries. Big Astrono
 my will take viewers to Chile\, where 70% of the world's largest telescope
 s sit atop desert incredible mountains. Find out what it takes to run thes
 e observatories and how they bring us the wonders of the universe by watch
 ing the premier of the show on the Big Astronomy YouTube Channel.
DTSTART;TZID=America/Los_Angeles:20200926T180000
DTEND;TZID=America/Los_Angeles:20200926T180000
LOCATION:Live Streaming on YouTube channel
SUMMARY:Live! Join us for the Streaming of the Big Astronomy Planetarium Sh
 ow
END:VEVENT
END:VCALENDAR
