BEGIN:VCALENDAR
VERSION:2.0
PRODID:-//astrosociety.org//NONSGML kigkonsult.se iCalcreator 2.30.10//
CALSCALE:GREGORIAN
METHOD:PUBLISH
UID:75c976d9-2ccc-4582-854c-17b5ef026380
X-WR-CALDESC:
X-WR-RELCALID:cd465e0d8aaec4b17413f5d971c0360c
X-WR-TIMEZONE:America/Los_Angeles
BEGIN:VTIMEZONE
TZID:America/Los_Angeles
BEGIN:STANDARD
TZNAME:PST
DTSTART:20191103T020000
TZOFFSETFROM:-0700
TZOFFSETTO:-0800
RDATE:20201101T020000
RDATE:20211107T020000
END:STANDARD
BEGIN:DAYLIGHT
TZNAME:PDT
DTSTART:20200308T020000
TZOFFSETFROM:-0800
TZOFFSETTO:-0700
RDATE:20210314T020000
RDATE:20220313T020000
END:DAYLIGHT
END:VTIMEZONE
BEGIN:VEVENT
UID:76f6d21c-888e-4fdf-acae-e7b3fe7f54c4
DTSTAMP:20260424T234454Z
DESCRIPTION:
DTSTART;TZID=America/Los_Angeles:20201014T190000
DTEND;TZID=America/Los_Angeles:20201014T200000
LOCATION:https://astrosociety.org/get-involved/events/silicon-valley-lectur
 e-series/
SUMMARY:Live Streaming and Returning: Silicon Valley Lecture Series
END:VEVENT
END:VCALENDAR
