BEGIN:VCALENDAR
VERSION:2.0
PRODID:-//astrosociety.org//NONSGML kigkonsult.se iCalcreator 2.30.10//
CALSCALE:GREGORIAN
METHOD:PUBLISH
UID:8d9bd744-6002-4c27-a825-cbabe604a1b9
X-WR-CALDESC:Save the date! Sign up for our Astronomy@Home mailing list to 
 be notified when registration is open for Sarla in the Sky by Anjali Joshi
  and Illustrated by Lisa Kurt.
X-WR-RELCALID:02c8f15e3f210a4d18f9d5a5dfa94802
X-WR-TIMEZONE:America/Los_Angeles
BEGIN:VTIMEZONE
TZID:America/Los_Angeles
BEGIN:STANDARD
TZNAME:PST
DTSTART:20201101T020000
TZOFFSETFROM:-0700
TZOFFSETTO:-0800
RDATE:20211107T020000
END:STANDARD
BEGIN:DAYLIGHT
TZNAME:PDT
DTSTART:20200308T020000
TZOFFSETFROM:-0800
TZOFFSETTO:-0700
RDATE:20210314T020000
RDATE:20220313T020000
END:DAYLIGHT
END:VTIMEZONE
BEGIN:VEVENT
UID:23e0f778-c983-4bb2-bcec-6e8b770a4fef
DTSTAMP:20260424T223228Z
DESCRIPTION:Save the date! Sign up for our Astronomy@Home mailing list to b
 e notified when registration is open for Sarla in the Sky by Anjali Joshi 
 and Illustrated by Lisa Kurt.
DTSTART;TZID=America/Los_Angeles:20201110T110000
DTEND;TZID=America/Los_Angeles:20201110T120000
LOCATION:Live Zoom Reading
SUMMARY:FREE Live Storytime! Sarla in the Sky by Anjali Joshi
END:VEVENT
END:VCALENDAR
