BEGIN:VCALENDAR
VERSION:2.0
PRODID:-//astrosociety.org//NONSGML kigkonsult.se iCalcreator 2.30.4//
CALSCALE:GREGORIAN
METHOD:PUBLISH
UID:06c56c01-5577-45a6-85a7-d4f8bef1e688
X-WR-CALDESC:If You Look Up to the Sky by Angela Dalton and Illustrated by 
 Margarita Sikorskaia\n\nJoin us for a live reading with the author\, Angel
 a Dalton\, of the illustrated children’s storybook\, 'If You Look Up to th
 e Sky.' Illustrated by Margarita Sikorskaia. Told by a grandmother to her 
 grandchild\, this is a story about the power of everlasting love and the w
 ays the sky connects us through good times and bad.\n\nRegistration is req
 uired for this live reading.\n
X-WR-RELCALID:2a2dfa869714b97e87a3bef99efa0010
X-WR-TIMEZONE:America/Los_Angeles
BEGIN:VTIMEZONE
TZID:America/Los_Angeles
BEGIN:STANDARD
TZNAME:PST
DTSTART:20201101T020000
TZOFFSETFROM:-0700
TZOFFSETTO:-0800
RDATE:20211107T020000
END:STANDARD
BEGIN:DAYLIGHT
TZNAME:PDT
DTSTART:20200308T020000
TZOFFSETFROM:-0800
TZOFFSETTO:-0700
RDATE:20210314T020000
RDATE:20220313T020000
END:DAYLIGHT
END:VTIMEZONE
BEGIN:VEVENT
UID:da085484-9974-4e0c-b723-b7e1b7f48e4c
DTSTAMP:20210615T104959Z
DESCRIPTION:If You Look Up to the Sky by Angela Dalton and Illustrated by M
 argarita Sikorskaia\n\nJoin us for a live reading with the author\, Angela
  Dalton\, of the illustrated children’s storybook\, 'If You Look Up to the
  Sky.' Illustrated by Margarita Sikorskaia. Told by a grandmother to her g
 randchild\, this is a story about the power of everlasting love and the wa
 ys the sky connects us through good times and bad.\n\nRegistration is requ
 ired for this live reading.\n
DTSTART;TZID=America/Los_Angeles:20201215T110000
DTEND;TZID=America/Los_Angeles:20201215T113000
LOCATION:
SUMMARY:FREE Live Storytime! If You Look Up to the Sky - Author Reading!
END:VEVENT
END:VCALENDAR
