BEGIN:VCALENDAR
VERSION:2.0
PRODID:-//astrosociety.org//NONSGML kigkonsult.se iCalcreator 2.30.10//
CALSCALE:GREGORIAN
METHOD:PUBLISH
UID:9029ac16-df33-4c9f-a58b-9d2d354eee34
X-WR-CALDESC:Join us at CitSciCon for a first-time online event to help do 
 authentic research with NASA citizen science projects.  Fun and free! Regi
 ster today.\n\nOn Saturday\, May 22 at 2:45pm PT/5:45 ET\, ASP's Vivian Wh
 ite moderates Telescope Time! In Partnership with NASA's Night Sky Network
 ! \nRegister below for this free event today!\n\n\n#CitSciCon  #DoNASAScie
 nce
X-WR-RELCALID:513cdcb5efd8e9566f7580b849af2490
X-WR-TIMEZONE:America/Los_Angeles
BEGIN:VTIMEZONE
TZID:America/Los_Angeles
BEGIN:STANDARD
TZNAME:PST
DTSTART:20201101T020000
TZOFFSETFROM:-0700
TZOFFSETTO:-0800
RDATE:20211107T020000
RDATE:20221106T020000
END:STANDARD
BEGIN:DAYLIGHT
TZNAME:PDT
DTSTART:20210314T020000
TZOFFSETFROM:-0800
TZOFFSETTO:-0700
RDATE:20220313T020000
END:DAYLIGHT
END:VTIMEZONE
BEGIN:VEVENT
UID:40332f2a-c58b-4ba9-b2f4-977eefa5673f
DTSTAMP:20260425T021150Z
DESCRIPTION:Join us at CitSciCon for a first-time online event to help do a
 uthentic research with NASA citizen science projects.  Fun and free! Regis
 ter today.\n\nOn Saturday\, May 22 at 2:45pm PT/5:45 ET\, ASP's Vivian Whi
 te moderates Telescope Time! In Partnership with NASA's Night Sky Network!
  \nRegister below for this free event today!\n\n\n#CitSciCon  #DoNASAScien
 ce
DTSTART;TZID=America/Los_Angeles:20210521T000000
DTEND;TZID=America/Los_Angeles:20210522T235900
LOCATION:Online Event-Free Registration Required
SUMMARY:CitSciCon: Online Event Series with NASA Citizen Science Projects
END:VEVENT
END:VCALENDAR
