BEGIN:VCALENDAR
VERSION:2.0
PRODID:-//astrosociety.org//NONSGML kigkonsult.se iCalcreator 2.30.10//
CALSCALE:GREGORIAN
METHOD:PUBLISH
UID:c95ee06c-7f63-4197-94bb-ce36a33f3b48
X-WR-CALDESC:Adam Thornton is a software developer for the Vera Rubin Obser
 vatory. The Rubin Observatory will generate 20 terabytes of raw data a nig
 ht.  It is Adam's job to ensure that the JupyterLab-based interactive comp
 onent of the Observatory's science platform provides a pleasant way for as
 tronomers to quickly investigate hypotheses based on smallish-but-arbitrar
 ily-chosen slices through that data. \n\nIn this Zoom Webinar/Facebook Liv
 e event\, we will learn about Adam’s job\, and a little of his life outsid
 e astronomy.
X-WR-RELCALID:be4f691b8b3c394c76a401df797178c6
X-WR-TIMEZONE:America/Los_Angeles
BEGIN:VTIMEZONE
TZID:America/Los_Angeles
BEGIN:STANDARD
TZNAME:PST
DTSTART:20201101T020000
TZOFFSETFROM:-0700
TZOFFSETTO:-0800
RDATE:20211107T020000
RDATE:20221106T020000
END:STANDARD
BEGIN:DAYLIGHT
TZNAME:PDT
DTSTART:20210314T020000
TZOFFSETFROM:-0800
TZOFFSETTO:-0700
RDATE:20220313T020000
END:DAYLIGHT
END:VTIMEZONE
BEGIN:VEVENT
UID:81b0bb19-00f4-473f-a25c-aa027ec40a9f
DTSTAMP:20260425T010255Z
DESCRIPTION:Adam Thornton is a software developer for the Vera Rubin Observ
 atory. The Rubin Observatory will generate 20 terabytes of raw data a nigh
 t.  It is Adam's job to ensure that the JupyterLab-based interactive compo
 nent of the Observatory's science platform provides a pleasant way for ast
 ronomers to quickly investigate hypotheses based on smallish-but-arbitrari
 ly-chosen slices through that data. \n\nIn this Zoom Webinar/Facebook Live
  event\, we will learn about Adam’s job\, and a little of his life outside
  astronomy.
DTSTART;TZID=America/Los_Angeles:20210621T170000
DTEND;TZID=America/Los_Angeles:20210621T180000
LOCATION:Free Live Streaming Webinar
SUMMARY:Real People\, Real Astronomy with Adam Thornton of Vera Rubin Obser
 vatory
END:VEVENT
END:VCALENDAR
