BEGIN:VCALENDAR
VERSION:2.0
PRODID:-//astrosociety.org//NONSGML kigkonsult.se iCalcreator 2.30.10//
CALSCALE:GREGORIAN
METHOD:PUBLISH
UID:1b704ce6-963e-4360-980e-28754dfb21b0
X-WR-CALDESC:Special Public Talk with Jill Tarter: Thursday July 22 \n5:00p
 m PT/ 8:00pm ET\n\nJoin us for an evening with Guest Speaker\, Jill Tarter
 \, co-founder of SETI. This special free webinar event is part of the ASP2
 021 Summer Symposium but will be open to the public with a requested donat
 ion.\n\nSee the link below for details of the talk and a link to the YouTu
 be Event. \n
X-WR-RELCALID:9214e4c673ec30c9a8b8728ad13cb573
X-WR-TIMEZONE:America/Los_Angeles
BEGIN:VTIMEZONE
TZID:America/Los_Angeles
BEGIN:STANDARD
TZNAME:PST
DTSTART:20201101T020000
TZOFFSETFROM:-0700
TZOFFSETTO:-0800
RDATE:20211107T020000
RDATE:20221106T020000
END:STANDARD
BEGIN:DAYLIGHT
TZNAME:PDT
DTSTART:20210314T020000
TZOFFSETFROM:-0800
TZOFFSETTO:-0700
RDATE:20220313T020000
END:DAYLIGHT
END:VTIMEZONE
BEGIN:VEVENT
UID:2c15fb15-6836-4295-9470-446be79f025b
DTSTAMP:20260425T000208Z
DESCRIPTION:Special Public Talk with Jill Tarter: Thursday July 22 \n5:00pm
  PT/ 8:00pm ET\n\nJoin us for an evening with Guest Speaker\, Jill Tarter\
 , co-founder of SETI. This special free webinar event is part of the ASP20
 21 Summer Symposium but will be open to the public with a requested donati
 on.\n\nSee the link below for details of the talk and a link to the YouTub
 e Event. \n
DTSTART;TZID=America/Los_Angeles:20210722T000000
DTEND;TZID=America/Los_Angeles:20210722T235900
LOCATION:Zoom Webinar\, Public Talk
SUMMARY:An Evening Talk with Jill Tarter\, co-founder of SETI
END:VEVENT
END:VCALENDAR
