BEGIN:VCALENDAR
VERSION:2.0
PRODID:-//astrosociety.org//NONSGML kigkonsult.se iCalcreator 2.30.10//
CALSCALE:GREGORIAN
METHOD:PUBLISH
UID:42dfef24-c37f-4eff-85c4-f0c6f147c48f
X-WR-CALDESC:'Confidence and Curiosity: Girls at the Telescope' Workshop fo
 r Amateur Astronomers and Informal Educators\nAugust 8-28\n\nDEADLINE to a
 pply: July 25\n\nThe ASP program Night Sky Network and Reach for the Stars
 : NASA Science for Girl Scouts have teamed up to offer free online worksho
 ps for amateur astronomers about the new Space Science badges and best pra
 ctices for engaging Girl Scouts with astronomy.  The workshop teams intera
 ctive live sessions and chances to explore thoughts with other astronomers
  in a community forum.\n\nExplore some Girl Scout-tested\, effective ways 
 to interact with girls in informal learning environments. Use techniques t
 o help create an inviting environment where everyone has the opportunity t
 o learn more about space science. Connect with a community that shares you
 r dedication to inclusive outreach. We strongly recommend taking this work
 shop with another person from your club\, so you can implement these strat
 egies together.\n\n\nAll genders are welcome to attend this inclusive outr
 each session.\n\nLive sessions will be on Tuesdays at 12 Pacific / 3 Easte
 rn on August 10\, 17 and 24th.\n\n
X-WR-RELCALID:566ea60d3499a56fead0b206b59c7a50
X-WR-TIMEZONE:America/Los_Angeles
BEGIN:VTIMEZONE
TZID:America/Los_Angeles
BEGIN:STANDARD
TZNAME:PST
DTSTART:20201101T020000
TZOFFSETFROM:-0700
TZOFFSETTO:-0800
RDATE:20211107T020000
RDATE:20221106T020000
END:STANDARD
BEGIN:DAYLIGHT
TZNAME:PDT
DTSTART:20210314T020000
TZOFFSETFROM:-0800
TZOFFSETTO:-0700
RDATE:20220313T020000
END:DAYLIGHT
END:VTIMEZONE
BEGIN:VEVENT
UID:c42037ef-4e3e-4cbd-a8d2-6edf070e527c
DTSTAMP:20260424T223123Z
DESCRIPTION:'Confidence and Curiosity: Girls at the Telescope' Workshop for
  Amateur Astronomers and Informal Educators\nAugust 8-28\n\nDEADLINE to ap
 ply: July 25\n\nThe ASP program Night Sky Network and Reach for the Stars:
  NASA Science for Girl Scouts have teamed up to offer free online workshop
 s for amateur astronomers about the new Space Science badges and best prac
 tices for engaging Girl Scouts with astronomy.  The workshop teams interac
 tive live sessions and chances to explore thoughts with other astronomers 
 in a community forum.\n\nExplore some Girl Scout-tested\, effective ways t
 o interact with girls in informal learning environments. Use techniques to
  help create an inviting environment where everyone has the opportunity to
  learn more about space science. Connect with a community that shares your
  dedication to inclusive outreach. We strongly recommend taking this works
 hop with another person from your club\, so you can implement these strate
 gies together.\n\n\nAll genders are welcome to attend this inclusive outre
 ach session.\n\nLive sessions will be on Tuesdays at 12 Pacific / 3 Easter
 n on August 10\, 17 and 24th.\n\n
DTSTART;TZID=America/Los_Angeles:20210808T000000
DTEND;TZID=America/Los_Angeles:20210828T235900
LOCATION:Weekly Wednesday Live Sessions
SUMMARY:'Confidence and Curiosity: Girls at the Telescope' workshop
END:VEVENT
END:VCALENDAR
