BEGIN:VCALENDAR
VERSION:2.0
PRODID:-//astrosociety.org//NONSGML kigkonsult.se iCalcreator 2.30.10//
CALSCALE:GREGORIAN
METHOD:PUBLISH
UID:0f52ffc8-abf9-481c-87ca-b5ba648a7042
X-WR-CALDESC:One of ASP's programs\, Big Astronomy\, is offering a Panel Di
 scussion: Accessibility in Astronomy Outreach. Join Noreen Grice\, Ken Qui
 nn\, and ASP's Vivian White for a live discussion.\n\nBig Astronomy: Peopl
 e\, Places\, Discoveries delivers a unique learning experience for planeta
 rium visitors around the world by integrating virtual interactions with th
 ose living and working at Chilean observatories with curricular resources 
 and a planetarium show.
X-WR-RELCALID:57565c4978982c6ebc4b2baa3bae0668
X-WR-TIMEZONE:America/Los_Angeles
BEGIN:VTIMEZONE
TZID:America/Los_Angeles
BEGIN:STANDARD
TZNAME:PST
DTSTART:20201101T020000
TZOFFSETFROM:-0700
TZOFFSETTO:-0800
RDATE:20211107T020000
RDATE:20221106T020000
END:STANDARD
BEGIN:DAYLIGHT
TZNAME:PDT
DTSTART:20210314T020000
TZOFFSETFROM:-0800
TZOFFSETTO:-0700
RDATE:20220313T020000
RDATE:20230312T020000
END:DAYLIGHT
END:VTIMEZONE
BEGIN:VEVENT
UID:733f163a-800a-4a96-ad82-62d48a79cb8d
DTSTAMP:20260424T231249Z
DESCRIPTION:One of ASP's programs\, Big Astronomy\, is offering a Panel Dis
 cussion: Accessibility in Astronomy Outreach. Join Noreen Grice\, Ken Quin
 n\, and ASP's Vivian White for a live discussion.\n\nBig Astronomy: People
 \, Places\, Discoveries delivers a unique learning experience for planetar
 ium visitors around the world by integrating virtual interactions with tho
 se living and working at Chilean observatories with curricular resources a
 nd a planetarium show.
DTSTART;TZID=America/Los_Angeles:20210929T120000
DTEND;TZID=America/Los_Angeles:20210929T130000
LOCATION:Free Live Streaming Webinar
SUMMARY:Big Astronomy Panel Discussion: Accessibility in Astronomy Outreach
END:VEVENT
END:VCALENDAR
