BEGIN:VCALENDAR
VERSION:2.0
PRODID:-//astrosociety.org//NONSGML kigkonsult.se iCalcreator 2.30.10//
CALSCALE:GREGORIAN
METHOD:PUBLISH
UID:959a2a61-3926-46c1-a091-f49089301a3d
X-WR-CALDESC:ASP is a proud supporter of World Space Week\n\nWorld Space We
 ek is a UN-declared celebration of space held annually\, every October 4 t
 o 10. It is the largest space event on Earth\, with over 8\,000 events rep
 orted in 2019 and held in 96 countries. These events are organized by thou
 sands of organizations\, including space agencies\, aerospace companies\, 
 astronomy clubs and museums. In 2020\, World Space Week is dedicated to sa
 tellites and their broad benefits under the theme “Satellites improve life
 .”\n\nDespite the global pandemic\, there are safe and exciting ways to pa
 rticipate and celebrate World Space Week. The Highlights section showcases
  some of the creative\, innovative and popular events bringing people toge
 ther to celebrate space.
X-WR-RELCALID:f16dacb8f1a101962e0a916fc1ef4224
X-WR-TIMEZONE:America/Los_Angeles
BEGIN:VTIMEZONE
TZID:America/Los_Angeles
BEGIN:STANDARD
TZNAME:PST
DTSTART:20201101T020000
TZOFFSETFROM:-0700
TZOFFSETTO:-0800
RDATE:20211107T020000
RDATE:20221106T020000
END:STANDARD
BEGIN:DAYLIGHT
TZNAME:PDT
DTSTART:20210314T020000
TZOFFSETFROM:-0800
TZOFFSETTO:-0700
RDATE:20220313T020000
RDATE:20230312T020000
END:DAYLIGHT
END:VTIMEZONE
BEGIN:VEVENT
UID:ea85d217-412a-451d-975f-83c94b2b86de
DTSTAMP:20260424T202556Z
DESCRIPTION:ASP is a proud supporter of World Space Week\n\nWorld Space Wee
 k is a UN-declared celebration of space held annually\, every October 4 to
  10. It is the largest space event on Earth\, with over 8\,000 events repo
 rted in 2019 and held in 96 countries. These events are organized by thous
 ands of organizations\, including space agencies\, aerospace companies\, a
 stronomy clubs and museums. In 2020\, World Space Week is dedicated to sat
 ellites and their broad benefits under the theme “Satellites improve life.
 ”\n\nDespite the global pandemic\, there are safe and exciting ways to par
 ticipate and celebrate World Space Week. The Highlights section showcases 
 some of the creative\, innovative and popular events bringing people toget
 her to celebrate space.
DTSTART;TZID=America/Los_Angeles:20211004T000000
DTEND;TZID=America/Los_Angeles:20211010T235900
LOCATION:
SUMMARY:World Astronomy Week: Women in Space - Oct 4-10
END:VEVENT
END:VCALENDAR
