BEGIN:VCALENDAR
VERSION:2.0
PRODID:-//astrosociety.org//NONSGML kigkonsult.se iCalcreator 2.30.10//
CALSCALE:GREGORIAN
METHOD:PUBLISH
UID:d08b55da-cf59-4da6-b126-7d88d46db148
X-WR-CALDESC:Join the NASA Night Sky Network on Tuesday\, December 7 at 6:0
 0pm Pacific Time (9:00pm Eastern) to hear Dr. Jerry Bonnell from NASA’s As
 tronomy Picture of the Day bring us the best of APOD for 2021.\n\nAlong wi
 th Robert Nemiroff\, Jerry Bonnell has written\, coordinated\, and edited 
 NASA’s Astronomy Picture of the Day (APOD) since 1995. The APOD archive co
 ntains the largest collection of annotated astronomical images on the inte
 rnet.   \n\nAbout Jerry Bonnell\nDr. Jerry Bonnell received a Ph.D. in ast
 ronomy from the University of Maryland at some point during the last centu
 ry. He has since enjoyed working on a variety of astrophysical satellite p
 rojects at NASA’s Goddard Space Flight Center including the Cosmic Backgro
 und Explorer\, the International Ultraviolet Explorer\, the Compton Gamma 
 Ray Observatory\, and the Fermi Gamma-ray Space Telescope. While his resea
 rch interests have wandered across the entire electromagnetic spectrum the
 y have most recently focused on the time histories and spectral evolution 
 of cosmic gamma-ray bursts.\n\nAuthor of popular books\, reviews\, and mag
 azine articles on astronomy and high-energy astrophysics\, Dr. Bonnell is 
 also a founding editor and author of the Astronomy Picture of the Day (APO
 D)\, begun in 1995. Dr. Bonnell lives with his wife (an art historian) in 
 Greenbelt\, MD\, USA.\n\nHis presentation “Postcards from the Universe” wi
 ll look back on favorite astronomy and night sky images featured on APOD d
 uring 2021.\n\napod.nasa.govapod.nasa.gov\nA different astronomy and space
  science related image is featured each day\, along with a brief explanati
 on.\n\nhttps://apod.nasa.gov/apod/archivepix.html\nAstronomy Picture of th
 e Day Archive 2015 astronomy picture of the day dated archive listing\n\nF
 urther Information and Viewing Options\n\nThe event will also be streaming
  live on YouTube\, but please note that questions asked over the NSN-membe
 rs-only Zoom Q&A will be prioritized.\n\nFurther Information and Additiona
 l Viewing Options see below.\n
X-WR-RELCALID:28aec3ce80f8a9511405dc8d4549ee54
X-WR-TIMEZONE:America/Los_Angeles
BEGIN:VTIMEZONE
TZID:America/Los_Angeles
BEGIN:STANDARD
TZNAME:PST
DTSTART:20211107T020000
TZOFFSETFROM:-0700
TZOFFSETTO:-0800
RDATE:20221106T020000
END:STANDARD
BEGIN:DAYLIGHT
TZNAME:PDT
DTSTART:20210314T020000
TZOFFSETFROM:-0800
TZOFFSETTO:-0700
RDATE:20220313T020000
RDATE:20230312T020000
END:DAYLIGHT
END:VTIMEZONE
BEGIN:VEVENT
UID:6bf2c1be-c39e-4172-9c75-f42785036189
DTSTAMP:20260424T213907Z
DESCRIPTION:Join the NASA Night Sky Network on Tuesday\, December 7 at 6:00
 pm Pacific Time (9:00pm Eastern) to hear Dr. Jerry Bonnell from NASA’s Ast
 ronomy Picture of the Day bring us the best of APOD for 2021.\n\nAlong wit
 h Robert Nemiroff\, Jerry Bonnell has written\, coordinated\, and edited N
 ASA’s Astronomy Picture of the Day (APOD) since 1995. The APOD archive con
 tains the largest collection of annotated astronomical images on the inter
 net.   \n\nAbout Jerry Bonnell\nDr. Jerry Bonnell received a Ph.D. in astr
 onomy from the University of Maryland at some point during the last centur
 y. He has since enjoyed working on a variety of astrophysical satellite pr
 ojects at NASA’s Goddard Space Flight Center including the Cosmic Backgrou
 nd Explorer\, the International Ultraviolet Explorer\, the Compton Gamma R
 ay Observatory\, and the Fermi Gamma-ray Space Telescope. While his resear
 ch interests have wandered across the entire electromagnetic spectrum they
  have most recently focused on the time histories and spectral evolution o
 f cosmic gamma-ray bursts.\n\nAuthor of popular books\, reviews\, and maga
 zine articles on astronomy and high-energy astrophysics\, Dr. Bonnell is a
 lso a founding editor and author of the Astronomy Picture of the Day (APOD
 )\, begun in 1995. Dr. Bonnell lives with his wife (an art historian) in G
 reenbelt\, MD\, USA.\n\nHis presentation “Postcards from the Universe” wil
 l look back on favorite astronomy and night sky images featured on APOD du
 ring 2021.\n\napod.nasa.govapod.nasa.gov\nA different astronomy and space 
 science related image is featured each day\, along with a brief explanatio
 n.\n\nhttps://apod.nasa.gov/apod/archivepix.html\nAstronomy Picture of the
  Day Archive 2015 astronomy picture of the day dated archive listing\n\nFu
 rther Information and Viewing Options\n\nThe event will also be streaming 
 live on YouTube\, but please note that questions asked over the NSN-member
 s-only Zoom Q&A will be prioritized.\n\nFurther Information and Additional
  Viewing Options see below.\n
DTSTART;TZID=America/Los_Angeles:20211207T180000
DTEND;TZID=America/Los_Angeles:20211207T190000
LOCATION:
SUMMARY:Free Live NSN Webinar Series: Postcards from the Universe
END:VEVENT
END:VCALENDAR
