BEGIN:VCALENDAR
VERSION:2.0
PRODID:-//astrosociety.org//NONSGML kigkonsult.se iCalcreator 2.30.10//
CALSCALE:GREGORIAN
METHOD:PUBLISH
UID:419b5e52-7b02-4f48-83fe-a76424a71d6c
X-WR-CALDESC:What causes our seasons? \nWhat are solstices and equinoxes?\n
 Do other planets have seasons?
X-WR-RELCALID:4658425605777eaa68a7bcf91d2b98a3
X-WR-TIMEZONE:America/Los_Angeles
BEGIN:VTIMEZONE
TZID:America/Los_Angeles
BEGIN:STANDARD
TZNAME:PST
DTSTART:20211107T020000
TZOFFSETFROM:-0700
TZOFFSETTO:-0800
RDATE:20221106T020000
END:STANDARD
BEGIN:DAYLIGHT
TZNAME:PDT
DTSTART:20210314T020000
TZOFFSETFROM:-0800
TZOFFSETTO:-0700
RDATE:20220313T020000
RDATE:20230312T020000
END:DAYLIGHT
END:VTIMEZONE
BEGIN:VEVENT
UID:67538838-e28a-4f1b-b4f4-3036edfbaf8b
DTSTAMP:20260424T213450Z
DESCRIPTION:What causes our seasons? \nWhat are solstices and equinoxes?\nD
 o other planets have seasons?
DTSTART;TZID=America/Los_Angeles:20211221T000000
DTEND;TZID=America/Los_Angeles:20211221T235900
LOCATION:
SUMMARY:Winter Solstice
END:VEVENT
END:VCALENDAR
