BEGIN:VCALENDAR
VERSION:2.0
PRODID:-//astrosociety.org//NONSGML kigkonsult.se iCalcreator 2.30.10//
CALSCALE:GREGORIAN
METHOD:PUBLISH
UID:f3af3300-ee43-45c5-b1e3-d334fbf626af
X-WR-CALDESC:
X-WR-RELCALID:c5a217df06edc6a4337a39ae31a414d2
X-WR-TIMEZONE:America/Los_Angeles
BEGIN:VTIMEZONE
TZID:America/Los_Angeles
BEGIN:STANDARD
TZNAME:PST
DTSTART:20211107T020000
TZOFFSETFROM:-0700
TZOFFSETTO:-0800
RDATE:20221106T020000
END:STANDARD
BEGIN:DAYLIGHT
TZNAME:PDT
DTSTART:20210314T020000
TZOFFSETFROM:-0800
TZOFFSETTO:-0700
RDATE:20220313T020000
RDATE:20230312T020000
END:DAYLIGHT
END:VTIMEZONE
BEGIN:VEVENT
UID:5dba5210-adee-46ce-bcff-f0f51a136bc5
DTSTAMP:20260424T232950Z
DESCRIPTION:
DTSTART;TZID=America/Los_Angeles:20211223T000000
DTEND;TZID=America/Los_Angeles:20220104T235900
LOCATION:
SUMMARY:ASP Offices Closed for the Holidays
END:VEVENT
END:VCALENDAR
