BEGIN:VCALENDAR
VERSION:2.0
PRODID:-//astrosociety.org//NONSGML kigkonsult.se iCalcreator 2.30.10//
CALSCALE:GREGORIAN
METHOD:PUBLISH
UID:40119fd2-1dfc-42cf-94e4-d14e55d46dfd
X-WR-CALDESC:Join the NASA Night Sky Network on Monday\, January 10 at 6:00
 pm Pacific Time (9:00pm Eastern) to hear Dr. Jessica Taylor from NASA’s La
 ngley Research Center share with us how you can provide data to NASA even 
 on cloudy days.\n\nWhat to do when clouds fill the view of your sky? Turn 
 this into a citizen science opportunity! Join the GLOBE Cloud Challenge: C
 louds in a Changing Climate from January 15-February 15\, 2022. Your obser
 vations documenting what’s in the sky are helpful to scientists. Participa
 nts are encouraged to download the GLOBE Observer app to start contributin
 g to this volunteer science community.\n\n About Dr. Jessica Taylor\n\n Je
 ssica Taylor grew up in Florida where her love of thunderstorms led her to
  pursue a career in atmospheric science. Jessica’s participation in GLOBE 
 began in 2001 as a student at Florida State University. Now as a Research 
 Scientist at NASA\, Jessica is the Principal Investigator for GLOBE Clouds
 . In 2021\, more than 220k observations of clouds and sky conditions were 
 documented and submitted to GLOBE’s worldwide database. \n Further Informa
 tion and Additional Viewing Options\n\n The event will also be streaming l
 ive on YouTube\, but please note that questions asked over the NSN-members
 -only Zoom Q&A will be prioritized.\n\nFurther Information and Additional 
 Viewing Options see below.\n
X-WR-RELCALID:a962bb0dc9110bd68ddebb4304078a25
X-WR-TIMEZONE:America/Los_Angeles
BEGIN:VTIMEZONE
TZID:America/Los_Angeles
BEGIN:STANDARD
TZNAME:PST
DTSTART:20211107T020000
TZOFFSETFROM:-0700
TZOFFSETTO:-0800
RDATE:20221106T020000
END:STANDARD
BEGIN:DAYLIGHT
TZNAME:PDT
DTSTART:20210314T020000
TZOFFSETFROM:-0800
TZOFFSETTO:-0700
RDATE:20220313T020000
RDATE:20230312T020000
END:DAYLIGHT
END:VTIMEZONE
BEGIN:VEVENT
UID:a238571b-23c7-4479-8cdd-740f733bb2d8
DTSTAMP:20260424T231009Z
DESCRIPTION:Join the NASA Night Sky Network on Monday\, January 10 at 6:00p
 m Pacific Time (9:00pm Eastern) to hear Dr. Jessica Taylor from NASA’s Lan
 gley Research Center share with us how you can provide data to NASA even o
 n cloudy days.\n\nWhat to do when clouds fill the view of your sky? Turn t
 his into a citizen science opportunity! Join the GLOBE Cloud Challenge: Cl
 ouds in a Changing Climate from January 15-February 15\, 2022. Your observ
 ations documenting what’s in the sky are helpful to scientists. Participan
 ts are encouraged to download the GLOBE Observer app to start contributing
  to this volunteer science community.\n\n About Dr. Jessica Taylor\n\n Jes
 sica Taylor grew up in Florida where her love of thunderstorms led her to 
 pursue a career in atmospheric science. Jessica’s participation in GLOBE b
 egan in 2001 as a student at Florida State University. Now as a Research S
 cientist at NASA\, Jessica is the Principal Investigator for GLOBE Clouds.
  In 2021\, more than 220k observations of clouds and sky conditions were d
 ocumented and submitted to GLOBE’s worldwide database. \n Further Informat
 ion and Additional Viewing Options\n\n The event will also be streaming li
 ve on YouTube\, but please note that questions asked over the NSN-members-
 only Zoom Q&A will be prioritized.\n\nFurther Information and Additional V
 iewing Options see below.\n
DTSTART;TZID=America/Los_Angeles:20220110T180000
DTEND;TZID=America/Los_Angeles:20220110T190000
LOCATION:
SUMMARY:Free Live NSN Webinar Series: When Clouds Take Over the Sky
END:VEVENT
END:VCALENDAR
