BEGIN:VCALENDAR
VERSION:2.0
PRODID:-//astrosociety.org//NONSGML kigkonsult.se iCalcreator 2.30.10//
CALSCALE:GREGORIAN
METHOD:PUBLISH
UID:2a7b39ba-fefb-499a-b91a-fdf3490fb988
X-WR-CALDESC:Real People\, Big Astronomy: Learn from STEM professionals in 
 this ongoing event series\n\nDr. Sian Proctor\nGeoscientist\, Explorer\, S
 pace Artist\, Astronaut\n\nDr. Sian Proctor is a geoscientist\, explorer\,
  space artist\, and astronaut. She was the mission pilot for the Inspirati
 on4 all-civilian orbital mission to space\, the first of its kind. In this
  event\, we will learn about Sian’s varied career path and her three day m
 ission in Earth orbit\, in which she became the first African American fem
 ale pilot to fly in space. Dr. Proctor will answer questions and share sto
 ries from her incredible adventure. \n\n----------------------------------
 --\nIf you would like to host a live audience to watch the event in your p
 lanetarium\, we will take live questions from your audience! Domes with a 
 live audience will be invited to join the Zoom webinar as a panelist\, so 
 they can ask questions. If you plan to have an event in person in your dom
 e\, please email Renae Kerrigan at renae.stenger@gmail.com \n \nThis progr
 am is expected to last 45 minutes to one hour. \n \nThe event will be broa
 dcast to Facebook Live\n\nIf you are hosting a live audience for this even
 t\, email Renae  Kerrigan for a unique link.\n
X-WR-RELCALID:45cfc8194ed04a2b939b913b8d0d726d
X-WR-TIMEZONE:America/Los_Angeles
BEGIN:VTIMEZONE
TZID:America/Los_Angeles
BEGIN:STANDARD
TZNAME:PST
DTSTART:20211107T020000
TZOFFSETFROM:-0700
TZOFFSETTO:-0800
RDATE:20221106T020000
END:STANDARD
BEGIN:DAYLIGHT
TZNAME:PDT
DTSTART:20210314T020000
TZOFFSETFROM:-0800
TZOFFSETTO:-0700
RDATE:20220313T020000
RDATE:20230312T020000
END:DAYLIGHT
END:VTIMEZONE
BEGIN:VEVENT
UID:73100029-c5f2-4c64-ae0b-ccc017efd300
DTSTAMP:20260425T010157Z
DESCRIPTION:Real People\, Big Astronomy: Learn from STEM professionals in t
 his ongoing event series\n\nDr. Sian Proctor\nGeoscientist\, Explorer\, Sp
 ace Artist\, Astronaut\n\nDr. Sian Proctor is a geoscientist\, explorer\, 
 space artist\, and astronaut. She was the mission pilot for the Inspiratio
 n4 all-civilian orbital mission to space\, the first of its kind. In this 
 event\, we will learn about Sian’s varied career path and her three day mi
 ssion in Earth orbit\, in which she became the first African American fema
 le pilot to fly in space. Dr. Proctor will answer questions and share stor
 ies from her incredible adventure. \n\n-----------------------------------
 -\nIf you would like to host a live audience to watch the event in your pl
 anetarium\, we will take live questions from your audience! Domes with a l
 ive audience will be invited to join the Zoom webinar as a panelist\, so t
 hey can ask questions. If you plan to have an event in person in your dome
 \, please email Renae Kerrigan at renae.stenger@gmail.com \n \nThis progra
 m is expected to last 45 minutes to one hour. \n \nThe event will be broad
 cast to Facebook Live\n\nIf you are hosting a live audience for this event
 \, email Renae  Kerrigan for a unique link.\n
DTSTART;TZID=America/Los_Angeles:20220204T160000
DTEND;TZID=America/Los_Angeles:20220204T170000
LOCATION:Free Webinar
SUMMARY:Real People\, Big Astronomy with Dr. Sian Proctor\, Geoscientist\, 
 Explorer\, Space Artist\, Astronaut
END:VEVENT
END:VCALENDAR
