BEGIN:VCALENDAR
VERSION:2.0
PRODID:-//astrosociety.org//NONSGML kigkonsult.se iCalcreator 2.30.10//
CALSCALE:GREGORIAN
METHOD:PUBLISH
UID:fd69921d-5ebb-4b82-b866-267e83de066e
X-WR-CALDESC:
X-WR-RELCALID:9a4f8ebe49844d9de21f6b70583963a5
X-WR-TIMEZONE:America/Los_Angeles
BEGIN:VTIMEZONE
TZID:America/Los_Angeles
BEGIN:STANDARD
TZNAME:PST
DTSTART:20211107T020000
TZOFFSETFROM:-0700
TZOFFSETTO:-0800
RDATE:20221106T020000
END:STANDARD
BEGIN:DAYLIGHT
TZNAME:PDT
DTSTART:20210314T020000
TZOFFSETFROM:-0800
TZOFFSETTO:-0700
RDATE:20220313T020000
RDATE:20230312T020000
END:DAYLIGHT
END:VTIMEZONE
BEGIN:VEVENT
UID:86283c1e-fbcc-402e-bf9e-b3d456581181
DTSTAMP:20260425T005808Z
DESCRIPTION:
DTSTART;TZID=America/Los_Angeles:20220207T000000
DTEND;TZID=America/Los_Angeles:20220207T235900
LOCATION:
SUMMARY:ASP's 133rd Birthday!
END:VEVENT
END:VCALENDAR
