BEGIN:VCALENDAR
VERSION:2.0
PRODID:-//astrosociety.org//NONSGML kigkonsult.se iCalcreator 2.30.10//
CALSCALE:GREGORIAN
METHOD:PUBLISH
UID:0cb4fc7c-cd94-410d-8956-1c285cd4a63a
X-WR-CALDESC:On Wednesday\, Mar. 9th\, 2022 at 7 pm (PST)\, Dr. Adam Burgas
 ser (University of California\, San Diego) will give a free\, illustrated\
 , non-technical lecture entitled:  \n\n“Dark Star: The Invisible Universe 
 of Brown Dwarfs' \n        \nAbout this Lecture:\n\nNormal stars\, like ou
 r Sun\, shine because they undergo nuclear fusion\, turning hydrogen into 
 helium and converting matter into radiation. But what if a star wasn't abl
 e to fuse? What would such a 'dud' look like? These were purely theoretica
 l question until the 1990s\, when the first examples of non-fusing stars\,
  or brown dwarfs\, were discovered. Today\, many thousands of such objects
  are known\, spanning a wide range of temperatures and masses\, and they o
 ccupy a unique niche of at the intersection of stars and exoplanets. In th
 is presentation\, Prof. Burgasser will introduce the science of brown dwar
 fs\, discuss how they were and continue to be discovered\, highlight some 
 of their exceptional properties\, and describe how this (mostly) invisible
  population may provide clues to the early formation and evolutionary hist
 ory of the Milky Way. \n \nAbout Adam Burgasser:\n\nAdam Burgasser is a pr
 ofessor of Physics at UC San Diego\, and an astrophysicist who studies the
  coldest stars\, brown dwarfs\, and extrasolar planets. Prof. Burgasser de
 fined the “T spectral class” of brown dwarfs as a graduate student\; and i
 s one of the co-discoverers of the TRAPPIST-1 exoplanetary system\, a syst
 em of seven Earth-sized planets orbiting an object at boundary of the star
 /brown dwarf divide.  He has authored over 600 publications\, including wo
 rk in astrophysics\, physics education\, and equity\, diversity\, and incl
 usion in STEM. Prof. Burgasser is currently a Vice-President of the Americ
 an Astronomical Society and has been a Fulbright scholar. \n\n------------
 ----------------------------------------------------------\n\nThe talk is 
 part of the Silicon Valley Astronomy Lecture Series (through Foothill Coll
 ege)\, now in its 22nd year. \n\nThe lecture is co-sponsored by: \n\n* The
  Foothill College Science\, Tech\, Engineering & Math Division \n* The SET
 I Institute \n* The Astronomical Society of the Pacific \n* The University
  of California Observatories (including Lick Observatory)
X-WR-RELCALID:20dbd95924f5c92f5531d7475dcd4642
X-WR-TIMEZONE:America/Los_Angeles
BEGIN:VTIMEZONE
TZID:America/Los_Angeles
BEGIN:STANDARD
TZNAME:PST
DTSTART:20211107T020000
TZOFFSETFROM:-0700
TZOFFSETTO:-0800
RDATE:20221106T020000
END:STANDARD
BEGIN:DAYLIGHT
TZNAME:PDT
DTSTART:20210314T020000
TZOFFSETFROM:-0800
TZOFFSETTO:-0700
RDATE:20220313T020000
RDATE:20230312T020000
END:DAYLIGHT
END:VTIMEZONE
BEGIN:VEVENT
UID:9f815e97-dd3e-4265-a801-cf178d6f82e4
DTSTAMP:20260425T023935Z
DESCRIPTION:On Wednesday\, Mar. 9th\, 2022 at 7 pm (PST)\, Dr. Adam Burgass
 er (University of California\, San Diego) will give a free\, illustrated\,
  non-technical lecture entitled:  \n\n“Dark Star: The Invisible Universe o
 f Brown Dwarfs' \n        \nAbout this Lecture:\n\nNormal stars\, like our
  Sun\, shine because they undergo nuclear fusion\, turning hydrogen into h
 elium and converting matter into radiation. But what if a star wasn't able
  to fuse? What would such a 'dud' look like? These were purely theoretical
  question until the 1990s\, when the first examples of non-fusing stars\, 
 or brown dwarfs\, were discovered. Today\, many thousands of such objects 
 are known\, spanning a wide range of temperatures and masses\, and they oc
 cupy a unique niche of at the intersection of stars and exoplanets. In thi
 s presentation\, Prof. Burgasser will introduce the science of brown dwarf
 s\, discuss how they were and continue to be discovered\, highlight some o
 f their exceptional properties\, and describe how this (mostly) invisible 
 population may provide clues to the early formation and evolutionary histo
 ry of the Milky Way. \n \nAbout Adam Burgasser:\n\nAdam Burgasser is a pro
 fessor of Physics at UC San Diego\, and an astrophysicist who studies the 
 coldest stars\, brown dwarfs\, and extrasolar planets. Prof. Burgasser def
 ined the “T spectral class” of brown dwarfs as a graduate student\; and is
  one of the co-discoverers of the TRAPPIST-1 exoplanetary system\, a syste
 m of seven Earth-sized planets orbiting an object at boundary of the star/
 brown dwarf divide.  He has authored over 600 publications\, including wor
 k in astrophysics\, physics education\, and equity\, diversity\, and inclu
 sion in STEM. Prof. Burgasser is currently a Vice-President of the America
 n Astronomical Society and has been a Fulbright scholar. \n\n-------------
 ---------------------------------------------------------\n\nThe talk is p
 art of the Silicon Valley Astronomy Lecture Series (through Foothill Colle
 ge)\, now in its 22nd year. \n\nThe lecture is co-sponsored by: \n\n* The 
 Foothill College Science\, Tech\, Engineering & Math Division \n* The SETI
  Institute \n* The Astronomical Society of the Pacific \n* The University 
 of California Observatories (including Lick Observatory)
DTSTART;TZID=America/Los_Angeles:20220309T190000
DTEND;TZID=America/Los_Angeles:20220309T200000
LOCATION:
SUMMARY:Free Live Streaming Silicon Valley Lecture: Dr. Adam Burgasser - “D
 ark Star: The Invisible Universe of Brown Dwarfs'
END:VEVENT
END:VCALENDAR
