BEGIN:VCALENDAR
VERSION:2.0
PRODID:-//astrosociety.org//NONSGML kigkonsult.se iCalcreator 2.30.10//
CALSCALE:GREGORIAN
METHOD:PUBLISH
UID:2f4f6eba-1c71-4b52-9a00-fbbfe0ecb915
X-WR-CALDESC:This special webinar is specifically designed for Night Sky Ne
 twork clubs\, however everyone is welcome to attend. Visit the links below
  for event viewing opportunities.\n\nJoin the NASA Night Sky Network on Tu
 esday\, March 15 at 6:00pm Pacific Time (9:00pm Eastern) to hear Anita Dey
  and Holly Ryer share with us how Night Sky Network clubs can share with t
 heir communities Webb First Images.\n\nLater this year\, the world will ge
 t a “first look” at images from the James Webb Space Telescope (Webb). Wan
 t to learn how to share this historic moment with your community? Join pre
 senters Anita Dey and Holly Ryer to learn about Webb Community Events and 
 how to get involved! NASA and its partners want to share the experience of
  Webb’s first images with communities all over the United States\, includi
 ng yours. Our goal is that with your help\, Webb’s first images will capti
 vate and inspire a new generation of space science enthusiasts\, reaching 
 a broader\, more diverse audience than ever before.\n\nAbout Anita Dey\nAn
 ita Dey is the Coordinator for the Webb Space Telescope Community Events i
 n National Aeronautics and Space Administration’s (NASA’s) Science Mission
  Directorate. She joined NASA in 2018 in the Office of Communications. Pre
 viously\, she worked at the Federal Communications Commission in various r
 oles involving international diplomacy\, policy and consumer outreach.\n\n
 About Holly Ryer\nHolly Ryer is a Principal Education Specialist at the Sp
 ace Telescope Science Institute. She supports STEM engagement programming 
 such as NASA’s Universe of Learning\, and outreach activities for the Hubb
 le and James Webb space telescope missions. Holly is a former classroom te
 acher with teaching and curriculum development experience in Baltimore-are
 a schools.\n\n\nThe event will also be streaming live on YouTube\, but ple
 ase note that questions asked over the NSN-members-only Zoom Q&A will be p
 rioritized.
X-WR-RELCALID:4214e9895ad3796322896413c572bb1f
X-WR-TIMEZONE:America/Los_Angeles
BEGIN:VTIMEZONE
TZID:America/Los_Angeles
BEGIN:STANDARD
TZNAME:PST
DTSTART:20211107T020000
TZOFFSETFROM:-0700
TZOFFSETTO:-0800
RDATE:20221106T020000
END:STANDARD
BEGIN:DAYLIGHT
TZNAME:PDT
DTSTART:20220313T020000
TZOFFSETFROM:-0800
TZOFFSETTO:-0700
RDATE:20230312T020000
END:DAYLIGHT
END:VTIMEZONE
BEGIN:VEVENT
UID:a2e8e51d-2b8b-486a-a8f0-5b25e140bacb
DTSTAMP:20260425T023503Z
DESCRIPTION:This special webinar is specifically designed for Night Sky Net
 work clubs\, however everyone is welcome to attend. Visit the links below 
 for event viewing opportunities.\n\nJoin the NASA Night Sky Network on Tue
 sday\, March 15 at 6:00pm Pacific Time (9:00pm Eastern) to hear Anita Dey 
 and Holly Ryer share with us how Night Sky Network clubs can share with th
 eir communities Webb First Images.\n\nLater this year\, the world will get
  a “first look” at images from the James Webb Space Telescope (Webb). Want
  to learn how to share this historic moment with your community? Join pres
 enters Anita Dey and Holly Ryer to learn about Webb Community Events and h
 ow to get involved! NASA and its partners want to share the experience of 
 Webb’s first images with communities all over the United States\, includin
 g yours. Our goal is that with your help\, Webb’s first images will captiv
 ate and inspire a new generation of space science enthusiasts\, reaching a
  broader\, more diverse audience than ever before.\n\nAbout Anita Dey\nAni
 ta Dey is the Coordinator for the Webb Space Telescope Community Events in
  National Aeronautics and Space Administration’s (NASA’s) Science Mission 
 Directorate. She joined NASA in 2018 in the Office of Communications. Prev
 iously\, she worked at the Federal Communications Commission in various ro
 les involving international diplomacy\, policy and consumer outreach.\n\nA
 bout Holly Ryer\nHolly Ryer is a Principal Education Specialist at the Spa
 ce Telescope Science Institute. She supports STEM engagement programming s
 uch as NASA’s Universe of Learning\, and outreach activities for the Hubbl
 e and James Webb space telescope missions. Holly is a former classroom tea
 cher with teaching and curriculum development experience in Baltimore-area
  schools.\n\n\nThe event will also be streaming live on YouTube\, but plea
 se note that questions asked over the NSN-members-only Zoom Q&A will be pr
 ioritized.
DTSTART;TZID=America/Los_Angeles:20220315T180000
DTEND;TZID=America/Los_Angeles:20220315T190000
LOCATION:
SUMMARY:Free Live NSN Webinar Series:  Webb Community Events: First Images
END:VEVENT
END:VCALENDAR
