BEGIN:VCALENDAR
VERSION:2.0
PRODID:-//astrosociety.org//NONSGML kigkonsult.se iCalcreator 2.30.10//
CALSCALE:GREGORIAN
METHOD:PUBLISH
UID:c9a64477-bef5-4980-95a0-5bc8d0b07dbe
X-WR-CALDESC:Join us this summer and participate in our online\, interactiv
 e Symposium to include live talks\, panels\, workshops\, and discussions. 
 \n\nInvited communication experts and leaders will share best practices fo
 r improving public understanding and appreciation for science and the wond
 ers of the cosmos.\n \nGuest Plenaries\, Session Speakers\, and Topics:\n
 \nThree Plenaries including:\n\nChris Impey and ASP CEO\, Linda Shore - Co
 mmunicating Astronomy in the World of Misinformation\n\nSession Topics Inc
 lude:\n\n    Scientists engaging the public\n    Communicating Astronomy t
 o the Public\n    Inclusive Public Science Engagement\n    Public Engageme
 nt by Amateurs\n    Eclipse Outreach On and Off the Path of Totality\n    
 Bringing Modern Astronomy to the Public \n    Science Denial & Misinformat
 ion\n    Engaging Girls in Astronomy\n    Visualizations in Astronomy\n\nT
 he target audiences for this Summer Symposium include:\n\n    Science Comm
 unicators and Informal Educators\n    Scientists and Science Educators\n  
   Museum and Planetarium Educators\n    Science Writers and Journalists\n 
    Social Media and Traditional Media Experts\n    Park Rangers and Youth 
 Leaders\n\n         and more\, from around the world!
X-WR-RELCALID:ca4b21ed9f501ece52c42095dbeb378b
X-WR-TIMEZONE:America/Los_Angeles
BEGIN:VTIMEZONE
TZID:America/Los_Angeles
BEGIN:STANDARD
TZNAME:PST
DTSTART:20211107T020000
TZOFFSETFROM:-0700
TZOFFSETTO:-0800
RDATE:20221106T020000
RDATE:20231105T020000
END:STANDARD
BEGIN:DAYLIGHT
TZNAME:PDT
DTSTART:20220313T020000
TZOFFSETFROM:-0800
TZOFFSETTO:-0700
RDATE:20230312T020000
END:DAYLIGHT
END:VTIMEZONE
BEGIN:VEVENT
UID:992fb937-73e6-419e-b932-aef8f7a3d183
DTSTAMP:20260424T101753Z
DESCRIPTION:Join us this summer and participate in our online\, interactive
  Symposium to include live talks\, panels\, workshops\, and discussions. 
 \n\nInvited communication experts and leaders will share best practices fo
 r improving public understanding and appreciation for science and the wond
 ers of the cosmos.\n \nGuest Plenaries\, Session Speakers\, and Topics:\n
 \nThree Plenaries including:\n\nChris Impey and ASP CEO\, Linda Shore - Co
 mmunicating Astronomy in the World of Misinformation\n\nSession Topics Inc
 lude:\n\n    Scientists engaging the public\n    Communicating Astronomy t
 o the Public\n    Inclusive Public Science Engagement\n    Public Engageme
 nt by Amateurs\n    Eclipse Outreach On and Off the Path of Totality\n    
 Bringing Modern Astronomy to the Public \n    Science Denial & Misinformat
 ion\n    Engaging Girls in Astronomy\n    Visualizations in Astronomy\n\nT
 he target audiences for this Summer Symposium include:\n\n    Science Comm
 unicators and Informal Educators\n    Scientists and Science Educators\n  
   Museum and Planetarium Educators\n    Science Writers and Journalists\n 
    Social Media and Traditional Media Experts\n    Park Rangers and Youth 
 Leaders\n\n         and more\, from around the world!
DTSTART;TZID=America/Los_Angeles:20220608T000000
DTEND;TZID=America/Los_Angeles:20220715T235900
LOCATION:One-day Online Symposium
SUMMARY:Early Bird Registration Open for ASP Summer Sympsosium
END:VEVENT
END:VCALENDAR
