BEGIN:VCALENDAR
VERSION:2.0
PRODID:-//astrosociety.org//NONSGML kigkonsult.se iCalcreator 2.30.10//
CALSCALE:GREGORIAN
METHOD:PUBLISH
UID:9ad683e8-0535-4f5c-9952-73a1ee489272
X-WR-CALDESC:Note: Registration Closes August 17 at 8:59pm PT. On-site/onli
 ne registration is not available for this Symposium.\n\nJoin us this summe
 r and participate in our online\, interactive Symposium to include live ta
 lks\, panels\, workshops\, and discussions. \n\nInvited communication expe
 rts and leaders will share best practices for improving public understandi
 ng and appreciation for science and the wonders of the cosmos.\n \nGuest P
 lenaries\n\nChris Impey & Derrick Pitts I Communicating Astronomy in an Er
 a of Misinformation - moderated by Linda Shore\n\nGuest Panel I Out of the
  Shadows - Eclipse Engagement Off the Beaten Path - moderated by Vivian Wh
 ite\n\nMartin Storksdieck I What Research Says about Effective Public Enga
 gement by Scientists\n \nInvited Speakers Include:\n\nLaura Peticolas I Ry
 an Wyatt I Sanlyn Buxner I Tenzin Rabga I Theresa Summer\n\nBrian Kruse I 
 Lynn Cominsky I Dennis Schatz I Suzy Gurton I KaChun Yu  \n\nGreg Schultz 
 I Summer Ash I Liz Kruesi I Dayna Thompson I Andrea Jones\n\nSession Topic
 s Include:\n\n    Scientists engaging the public\n    Communicating Astron
 omy to the Public\n    Inclusive Public Science Engagement\n    Public Eng
 agement by Amateurs\n    Eclipse Outreach On and Off the Path of Totality
 \n    Bringing Modern Astronomy to the Public \n    Science Denial & Misin
 formation\n    Engaging Girls in Astronomy\n    Visualizations in Astronom
 y\n\nThe target audiences for this Summer Symposium include:\n\n    Scienc
 e Communicators and Informal Educators\n    Scientists and Science Educato
 rs\n    Museum and Planetarium Educators\n    Science Writers and Journali
 sts\n    Social Media and Traditional Media Experts\n    Park Rangers and 
 Youth Leaders\n\n         and more\, from around the world!
X-WR-RELCALID:0795aa0d92813343a3c6fe4558e0a7b3
X-WR-TIMEZONE:America/Los_Angeles
BEGIN:VTIMEZONE
TZID:America/Los_Angeles
BEGIN:STANDARD
TZNAME:PST
DTSTART:20211107T020000
TZOFFSETFROM:-0700
TZOFFSETTO:-0800
RDATE:20221106T020000
RDATE:20231105T020000
END:STANDARD
BEGIN:DAYLIGHT
TZNAME:PDT
DTSTART:20220313T020000
TZOFFSETFROM:-0800
TZOFFSETTO:-0700
RDATE:20230312T020000
END:DAYLIGHT
END:VTIMEZONE
BEGIN:VEVENT
UID:9c1462e5-7e47-4a23-8294-6818dbcaa02f
DTSTAMP:20260425T112252Z
DESCRIPTION:Note: Registration Closes August 17 at 8:59pm PT. On-site/onlin
 e registration is not available for this Symposium.\n\nJoin us this summer
  and participate in our online\, interactive Symposium to include live tal
 ks\, panels\, workshops\, and discussions. \n\nInvited communication exper
 ts and leaders will share best practices for improving public understandin
 g and appreciation for science and the wonders of the cosmos.\n \nGuest Pl
 enaries\n\nChris Impey & Derrick Pitts I Communicating Astronomy in an Era
  of Misinformation - moderated by Linda Shore\n\nGuest Panel I Out of the 
 Shadows - Eclipse Engagement Off the Beaten Path - moderated by Vivian Whi
 te\n\nMartin Storksdieck I What Research Says about Effective Public Engag
 ement by Scientists\n \nInvited Speakers Include:\n\nLaura Peticolas I Rya
 n Wyatt I Sanlyn Buxner I Tenzin Rabga I Theresa Summer\n\nBrian Kruse I L
 ynn Cominsky I Dennis Schatz I Suzy Gurton I KaChun Yu  \n\nGreg Schultz I
  Summer Ash I Liz Kruesi I Dayna Thompson I Andrea Jones\n\nSession Topics
  Include:\n\n    Scientists engaging the public\n    Communicating Astrono
 my to the Public\n    Inclusive Public Science Engagement\n    Public Enga
 gement by Amateurs\n    Eclipse Outreach On and Off the Path of Totality\n
     Bringing Modern Astronomy to the Public \n    Science Denial & Misinfo
 rmation\n    Engaging Girls in Astronomy\n    Visualizations in Astronomy
 \n\nThe target audiences for this Summer Symposium include:\n\n    Science
  Communicators and Informal Educators\n    Scientists and Science Educator
 s\n    Museum and Planetarium Educators\n    Science Writers and Journalis
 ts\n    Social Media and Traditional Media Experts\n    Park Rangers and Y
 outh Leaders\n\n         and more\, from around the world!
DTSTART;TZID=America/Los_Angeles:20220716T000000
DTEND;TZID=America/Los_Angeles:20220817T235900
LOCATION:One-day Online Symposium
SUMMARY:Last days! Registration Open Thru 8/17 for ASP Summer Sympsosium
END:VEVENT
END:VCALENDAR
