BEGIN:VCALENDAR
VERSION:2.0
PRODID:-//astrosociety.org//NONSGML kigkonsult.se iCalcreator 2.30.10//
CALSCALE:GREGORIAN
METHOD:PUBLISH
UID:1047bd57-1c82-46c3-aee7-ff893553a745
X-WR-CALDESC:ASP Partner\, Rising Stargirls\, is offering The Universe: Mor
 e Than Meets the Eye\, a free summer online workshop. Geared towards middl
 e-school girls (Grades 6-8) from groups traditionally underrepresented* in
  the sciences\, this workshop will use writing\, visual art\, and theater 
 games to explore the universe. Bring your open minds\, your own stores\, a
 nd a sense of adventure!\n\nFeaturing: Professor Aomawa Shields\, Rising S
 targirls founder\, UC Irvine Astronomer & Astrobiologist\, TED Fellow\n\nD
 etails:\n\nMonday-Friday I July 18-29 I 12-2 PM PT / 2-4pm CT / 3-5pm ET\n
 \nOnline via Zoom (materials will be provided)\n\n* American Indian or Ala
 ska Native\, Black or African-American\, Hispanic or Latinx\, Native Hawai
 ian\, or other Pacific Islander
X-WR-RELCALID:7745fc124ada78a76092594c6a42d185
X-WR-TIMEZONE:America/Los_Angeles
BEGIN:VTIMEZONE
TZID:America/Los_Angeles
BEGIN:STANDARD
TZNAME:PST
DTSTART:20211107T020000
TZOFFSETFROM:-0700
TZOFFSETTO:-0800
RDATE:20221106T020000
RDATE:20231105T020000
END:STANDARD
BEGIN:DAYLIGHT
TZNAME:PDT
DTSTART:20220313T020000
TZOFFSETFROM:-0800
TZOFFSETTO:-0700
RDATE:20230312T020000
END:DAYLIGHT
END:VTIMEZONE
BEGIN:VEVENT
UID:417bdc9a-15c8-4c3d-9dc2-b3106a866fcb
DTSTAMP:20260425T115242Z
DESCRIPTION:ASP Partner\, Rising Stargirls\, is offering The Universe: More
  Than Meets the Eye\, a free summer online workshop. Geared towards middle
 -school girls (Grades 6-8) from groups traditionally underrepresented* in 
 the sciences\, this workshop will use writing\, visual art\, and theater g
 ames to explore the universe. Bring your open minds\, your own stores\, an
 d a sense of adventure!\n\nFeaturing: Professor Aomawa Shields\, Rising St
 argirls founder\, UC Irvine Astronomer & Astrobiologist\, TED Fellow\n\nDe
 tails:\n\nMonday-Friday I July 18-29 I 12-2 PM PT / 2-4pm CT / 3-5pm ET\n
 \nOnline via Zoom (materials will be provided)\n\n* American Indian or Ala
 ska Native\, Black or African-American\, Hispanic or Latinx\, Native Hawai
 ian\, or other Pacific Islander
DTSTART;TZID=America/Los_Angeles:20220718T000000
DTEND;TZID=America/Los_Angeles:20220729T235900
LOCATION:*An ASP Partner Event
SUMMARY:Rising Stargirls: The Universe: More Than Meets the Eye
END:VEVENT
END:VCALENDAR
