BEGIN:VCALENDAR
VERSION:2.0
PRODID:-//astrosociety.org//NONSGML kigkonsult.se iCalcreator 2.30.10//
CALSCALE:GREGORIAN
METHOD:PUBLISH
UID:ce953898-df26-45a3-8e91-119483851049
X-WR-CALDESC:
X-WR-RELCALID:e91c45ab333a4bdbd9025d42706ac065
X-WR-TIMEZONE:America/Los_Angeles
BEGIN:VTIMEZONE
TZID:America/Los_Angeles
BEGIN:STANDARD
TZNAME:PST
DTSTART:20211107T020000
TZOFFSETFROM:-0700
TZOFFSETTO:-0800
RDATE:20221106T020000
RDATE:20231105T020000
END:STANDARD
BEGIN:DAYLIGHT
TZNAME:PDT
DTSTART:20220313T020000
TZOFFSETFROM:-0800
TZOFFSETTO:-0700
RDATE:20230312T020000
END:DAYLIGHT
END:VTIMEZONE
BEGIN:VEVENT
UID:714525a2-379a-4932-a63a-66c89426de8f
DTSTAMP:20260425T114953Z
DESCRIPTION:
DTSTART;TZID=America/Los_Angeles:20220728T000000
DTEND;TZID=America/Los_Angeles:20220730T235900
LOCATION:* An ASP Partner Event
SUMMARY:ALCON Convention
END:VEVENT
END:VCALENDAR
