BEGIN:VCALENDAR
VERSION:2.0
PRODID:-//astrosociety.org//NONSGML kigkonsult.se iCalcreator 2.30.10//
CALSCALE:GREGORIAN
METHOD:PUBLISH
UID:84d4d350-70bb-41f2-9422-7fb6fd7e729c
X-WR-CALDESC:Special Public Talk with Jessica Harris: Thursday August 18\n6
 :00pm PT/ 9:00pm ET\n\nJoin us for an evening with Guest Speaker\,  Jessic
 a Harris\, physicist\, informal educator\, and science communicator. This 
 special free webinar event is part of the 2022 ASP Summer Symposium but wi
 ll be free to the public via the Live Streaming YouTube Link below.\n\nSee
  the Details link below about the talk and a direct Link to the YouTube Ev
 ent. \n\nAmerican Sign Language (ASL) interpretation live will be provided
  live as well as Closed Captioning (interpreted by Zoom) for the Special P
 ublic Talk.\n
X-WR-RELCALID:0f62a19764422bce7d7d8514cdd6b41b
X-WR-TIMEZONE:America/Los_Angeles
BEGIN:VTIMEZONE
TZID:America/Los_Angeles
BEGIN:STANDARD
TZNAME:PST
DTSTART:20211107T020000
TZOFFSETFROM:-0700
TZOFFSETTO:-0800
RDATE:20221106T020000
RDATE:20231105T020000
END:STANDARD
BEGIN:DAYLIGHT
TZNAME:PDT
DTSTART:20220313T020000
TZOFFSETFROM:-0800
TZOFFSETTO:-0700
RDATE:20230312T020000
END:DAYLIGHT
END:VTIMEZONE
BEGIN:VEVENT
UID:27a2da88-766b-479e-8bd2-4a9efa324972
DTSTAMP:20260425T114419Z
DESCRIPTION:Special Public Talk with Jessica Harris: Thursday August 18\n6:
 00pm PT/ 9:00pm ET\n\nJoin us for an evening with Guest Speaker\,  Jessica
  Harris\, physicist\, informal educator\, and science communicator. This s
 pecial free webinar event is part of the 2022 ASP Summer Symposium but wil
 l be free to the public via the Live Streaming YouTube Link below.\n\nSee 
 the Details link below about the talk and a direct Link to the YouTube Eve
 nt. \n\nAmerican Sign Language (ASL) interpretation live will be provided 
 live as well as Closed Captioning (interpreted by Zoom) for the Special Pu
 blic Talk.\n
DTSTART;TZID=America/Los_Angeles:20220818T180000
DTEND;TZID=America/Los_Angeles:20220818T190000
LOCATION:YouTube LiveStream\, Public Talk
SUMMARY:Free & Open to the Public: An Evening Talk with Jessica Harris: The
  Importance of Mentoring in STEM
END:VEVENT
END:VCALENDAR
