BEGIN:VCALENDAR
VERSION:2.0
PRODID:-//astrosociety.org//NONSGML kigkonsult.se iCalcreator 2.30.10//
CALSCALE:GREGORIAN
METHOD:PUBLISH
UID:77c286b8-f63b-49b1-8beb-328ffcaa41b1
X-WR-CALDESC:Registration Closes August 17\, 8:59pm PT\n\nJoin us this summ
 er and participate in our online\, interactive Symposium to include live t
 alks\, panels\, workshops\, and discussions. \n\nInvited communication exp
 erts and leaders will share best practices for improving public understand
 ing and appreciation for science and the wonders of the cosmos.\n\n \n\nTh
 e target audiences for this Summer Symposium include:\n\n    Science Commu
 nicators and Informal Educators\n    Scientists and Science Educators\n   
  Museum and Planetarium Educators\n    Science Writers and Journalists\n  
   Social Media and Traditional Media Experts\n    Park Rangers and Youth L
 eaders\n\n         and more\, from around the world!
X-WR-RELCALID:0c0b28f54d451a87ce0b3c9ad3f5f870
X-WR-TIMEZONE:America/Los_Angeles
BEGIN:VTIMEZONE
TZID:America/Los_Angeles
BEGIN:STANDARD
TZNAME:PST
DTSTART:20211107T020000
TZOFFSETFROM:-0700
TZOFFSETTO:-0800
RDATE:20221106T020000
RDATE:20231105T020000
END:STANDARD
BEGIN:DAYLIGHT
TZNAME:PDT
DTSTART:20220313T020000
TZOFFSETFROM:-0800
TZOFFSETTO:-0700
RDATE:20230312T020000
END:DAYLIGHT
END:VTIMEZONE
BEGIN:VEVENT
UID:38306365-d63f-4b39-8ac1-f2c83403fddf
DTSTAMP:20260425T113857Z
DESCRIPTION:Registration Closes August 17\, 8:59pm PT\n\nJoin us this summe
 r and participate in our online\, interactive Symposium to include live ta
 lks\, panels\, workshops\, and discussions. \n\nInvited communication expe
 rts and leaders will share best practices for improving public understandi
 ng and appreciation for science and the wonders of the cosmos.\n\n \n\nThe
  target audiences for this Summer Symposium include:\n\n    Science Commun
 icators and Informal Educators\n    Scientists and Science Educators\n    
 Museum and Planetarium Educators\n    Science Writers and Journalists\n   
  Social Media and Traditional Media Experts\n    Park Rangers and Youth Le
 aders\n\n         and more\, from around the world!
DTSTART;TZID=America/Los_Angeles:20220819T000000
DTEND;TZID=America/Los_Angeles:20220819T235900
LOCATION:Virtual Symposium
SUMMARY:2022 ASP Summer Symposium: Exploring Science Communication and Publ
 ic Engagement
END:VEVENT
END:VCALENDAR
