BEGIN:VCALENDAR
VERSION:2.0
PRODID:-//astrosociety.org//NONSGML kigkonsult.se iCalcreator 2.30.10//
CALSCALE:GREGORIAN
METHOD:PUBLISH
UID:c7c72b06-506f-46e4-b0a9-05c3a5f66c52
X-WR-CALDESC:On August 24th at 6pm PT/9pm ET hear from the International Ob
 serve the Moon Night team on everything that is available to hosts this ye
 ar. This webinar will prepare you to hold a great International Observe th
 e Moon event!\n\nInternational Observe the Moon Night is a time to look up
  with fellow Moon watchers worldwide\, learn about lunar science and explo
 ration\, and honor our cultural and personal connections to the Moon. Find
  out about this year’s program resources\, including a new Moon Map and Mo
 on viewing guide\, advertising materials\, and social media shareables. Di
 scover hands-on activities as well as tips and resources for hosting virtu
 al events - and for evaluating them. Ask questions of the project leadersh
 ip team and of other event hosts\, and share your own ideas for event plan
 ning. Hosts will also discuss opportunities to stay connected throughout t
 he year. Learn more about the International Observe the Moon Night program
  happening on October 1st\, 2022 and how you can participate.\n\nHosts And
 rea Jones and Caela Berry from NASA’s Goddard Space Flight Center and Ther
 esa Summer from the Astronomical Society of the Pacific will guide the dis
 cussion with guests from around the world.\n
X-WR-RELCALID:98ddd52e7e96c40aad2ab90ad493a8dd
X-WR-TIMEZONE:America/Los_Angeles
BEGIN:VTIMEZONE
TZID:America/Los_Angeles
BEGIN:STANDARD
TZNAME:PST
DTSTART:20211107T020000
TZOFFSETFROM:-0700
TZOFFSETTO:-0800
RDATE:20221106T020000
RDATE:20231105T020000
END:STANDARD
BEGIN:DAYLIGHT
TZNAME:PDT
DTSTART:20220313T020000
TZOFFSETFROM:-0800
TZOFFSETTO:-0700
RDATE:20230312T020000
END:DAYLIGHT
END:VTIMEZONE
BEGIN:VEVENT
UID:17b02208-28e1-4e52-9643-f1b606dca9da
DTSTAMP:20260425T113530Z
DESCRIPTION:On August 24th at 6pm PT/9pm ET hear from the International Obs
 erve the Moon Night team on everything that is available to hosts this yea
 r. This webinar will prepare you to hold a great International Observe the
  Moon event!\n\nInternational Observe the Moon Night is a time to look up 
 with fellow Moon watchers worldwide\, learn about lunar science and explor
 ation\, and honor our cultural and personal connections to the Moon. Find 
 out about this year’s program resources\, including a new Moon Map and Moo
 n viewing guide\, advertising materials\, and social media shareables. Dis
 cover hands-on activities as well as tips and resources for hosting virtua
 l events - and for evaluating them. Ask questions of the project leadershi
 p team and of other event hosts\, and share your own ideas for event plann
 ing. Hosts will also discuss opportunities to stay connected throughout th
 e year. Learn more about the International Observe the Moon Night program 
 happening on October 1st\, 2022 and how you can participate.\n\nHosts Andr
 ea Jones and Caela Berry from NASA’s Goddard Space Flight Center and There
 sa Summer from the Astronomical Society of the Pacific will guide the disc
 ussion with guests from around the world.\n
DTSTART;TZID=America/Los_Angeles:20220824T180000
DTEND;TZID=America/Los_Angeles:20220824T190000
LOCATION:*ASP Partner Event
SUMMARY:NSN Enrichment Series: Get Ready for International Observe the Moon
  Night 2022!
END:VEVENT
END:VCALENDAR
