BEGIN:VCALENDAR
VERSION:2.0
PRODID:-//astrosociety.org//NONSGML kigkonsult.se iCalcreator 2.30.10//
CALSCALE:GREGORIAN
METHOD:PUBLISH
UID:1a511cf7-c8c7-452d-b11a-fbcf1ef46d20
X-WR-CALDESC:International Observe the Moon Night is an annual public outre
 ach event sponsored by the Lunar Reconnaissance Orbiter mission\, the Sola
 r System Exploration Division at NASA's Goddard Space Flight Center\, and 
 other NASA and astronomical organizations that encourages observation\, ap
 preciation\, and understanding of our Moon and its connection to planetary
  science and exploration.\n\nVisit the ASP’s Night Sky Network website to 
 locate a hosted event or to simply participate as a lunar observer. Launch
 ed in 2010\, there are usually over 500 events annually in over 40 countri
 es\, hosted by universities\, observatories\, NASA Centers\, schools\, mus
 eums\, parks\, libraries\, and amateur astronomers. Launched in 2010\, the
 re are over 900 events this year\, in over 40 countries\, hosted by univer
 sities\, observatories\, NASA Centers\, schools\, museums\, parks\, librar
 ies\, and amateur astronomers.\n
X-WR-RELCALID:d3bdc5a4fb7351a19d457189913dbba4
X-WR-TIMEZONE:America/Los_Angeles
BEGIN:VTIMEZONE
TZID:America/Los_Angeles
BEGIN:STANDARD
TZNAME:PST
DTSTART:20211107T020000
TZOFFSETFROM:-0700
TZOFFSETTO:-0800
RDATE:20221106T020000
RDATE:20231105T020000
END:STANDARD
BEGIN:DAYLIGHT
TZNAME:PDT
DTSTART:20220313T020000
TZOFFSETFROM:-0800
TZOFFSETTO:-0700
RDATE:20230312T020000
RDATE:20240310T020000
END:DAYLIGHT
END:VTIMEZONE
BEGIN:VEVENT
UID:87f93eb6-13ae-4e4c-80aa-65eb82d4d147
DTSTAMP:20260425T135114Z
DESCRIPTION:International Observe the Moon Night is an annual public outrea
 ch event sponsored by the Lunar Reconnaissance Orbiter mission\, the Solar
  System Exploration Division at NASA's Goddard Space Flight Center\, and o
 ther NASA and astronomical organizations that encourages observation\, app
 reciation\, and understanding of our Moon and its connection to planetary 
 science and exploration.\n\nVisit the ASP’s Night Sky Network website to l
 ocate a hosted event or to simply participate as a lunar observer. Launche
 d in 2010\, there are usually over 500 events annually in over 40 countrie
 s\, hosted by universities\, observatories\, NASA Centers\, schools\, muse
 ums\, parks\, libraries\, and amateur astronomers. Launched in 2010\, ther
 e are over 900 events this year\, in over 40 countries\, hosted by univers
 ities\, observatories\, NASA Centers\, schools\, museums\, parks\, librari
 es\, and amateur astronomers.\n
DTSTART;TZID=America/Los_Angeles:20220930T000000
DTEND;TZID=America/Los_Angeles:20221001T235900
LOCATION:
SUMMARY:International Observe the Moon Night
END:VEVENT
END:VCALENDAR
