BEGIN:VCALENDAR
VERSION:2.0
PRODID:-//astrosociety.org//NONSGML kigkonsult.se iCalcreator 2.30.10//
CALSCALE:GREGORIAN
METHOD:PUBLISH
UID:da6bfb73-f3e1-4e0a-9547-7df9a5b53145
X-WR-CALDESC:Each year the ASP honors and recognizes the ASP Awards Recipie
 nts for their leadership in and advancement of astronomy and space science
 . Join us as we present the prestigious Catherine Wolfe Bruce Gold Medal (
 awarded since 1898) for lifetime achievement in astronomy research. This y
 ear’s recipient is Dr. Ellen Gould Zweibel\, William L. Kraushaar Professo
 r of Astronomy and Physics\, University of Wisconsin- Madison\, in recogni
 tion of her contributions to the understanding of astrophysical plasmas\, 
 especially those associated with the Sun\, stars\, galaxies\, and galactic
  clusters.\n\nThe ceremony also features presentations of six additional a
 wards\, including the reverred Arthur B.C. Walker II Award\, presented to 
 Dr. Jedidah C. Isler\, Principal Assistant Director for STEM Opportunity &
  Engagement at the White House Office of Science & Technology Policy whose
  research explores the physics of blazars – supermassive black holes at th
 e centers of galaxies that create particle jets moving at nearly the speed
  of light.\n\n    Date: Saturday\, November 19\, 2022\n    Time: 5:00 Rece
 ption. 6:30 Banquet and Awards presentation.\n    Location: DoubleTree/Hil
 ton - 835 Airport Blvd\, Burlingame\, CA
X-WR-RELCALID:e48e3915fef659d493afccd423571531
X-WR-TIMEZONE:America/Los_Angeles
BEGIN:VTIMEZONE
TZID:America/Los_Angeles
BEGIN:STANDARD
TZNAME:PST
DTSTART:20211107T020000
TZOFFSETFROM:-0700
TZOFFSETTO:-0800
RDATE:20221106T020000
RDATE:20231105T020000
END:STANDARD
BEGIN:DAYLIGHT
TZNAME:PDT
DTSTART:20220313T020000
TZOFFSETFROM:-0800
TZOFFSETTO:-0700
RDATE:20230312T020000
RDATE:20240310T020000
END:DAYLIGHT
END:VTIMEZONE
BEGIN:VEVENT
UID:aec89eb2-bd8e-4aaa-b3fe-87b0e08bd137
DTSTAMP:20260425T153734Z
DESCRIPTION:Each year the ASP honors and recognizes the ASP Awards Recipien
 ts for their leadership in and advancement of astronomy and space science.
  Join us as we present the prestigious Catherine Wolfe Bruce Gold Medal (a
 warded since 1898) for lifetime achievement in astronomy research. This ye
 ar’s recipient is Dr. Ellen Gould Zweibel\, William L. Kraushaar Professor
  of Astronomy and Physics\, University of Wisconsin- Madison\, in recognit
 ion of her contributions to the understanding of astrophysical plasmas\, e
 specially those associated with the Sun\, stars\, galaxies\, and galactic 
 clusters.\n\nThe ceremony also features presentations of six additional aw
 ards\, including the reverred Arthur B.C. Walker II Award\, presented to D
 r. Jedidah C. Isler\, Principal Assistant Director for STEM Opportunity & 
 Engagement at the White House Office of Science & Technology Policy whose 
 research explores the physics of blazars – supermassive black holes at the
  centers of galaxies that create particle jets moving at nearly the speed 
 of light.\n\n    Date: Saturday\, November 19\, 2022\n    Time: 5:00 Recep
 tion. 6:30 Banquet and Awards presentation.\n    Location: DoubleTree/Hilt
 on - 835 Airport Blvd\, Burlingame\, CA
DTSTART;TZID=America/Los_Angeles:20221004T000000
DTEND;TZID=America/Los_Angeles:20221004T235900
LOCATION:In person event\, DoubleTree by Hilton\, Burlingame\, CA
SUMMARY:ASP Awards Gala Tickets Now Available. *In person event* - November
  19
END:VEVENT
END:VCALENDAR
