BEGIN:VCALENDAR
VERSION:2.0
PRODID:-//astrosociety.org//NONSGML kigkonsult.se iCalcreator 2.30.10//
CALSCALE:GREGORIAN
METHOD:PUBLISH
UID:691d1758-8a2c-4305-9cdb-17d8004318ca
X-WR-CALDESC:Join us on Tuesday\, October 18 at 6pm Pacific/9pm Eastern as 
 Jackie Faherty from the American Museum of Natural History tells us about 
 the JWST will enhance our understanding of low mass stars\, and exoplanets
 .\n\nThe James Webb Space Telescope is a game changer in Astronomy.  Howev
 er the influence that this momentous telescope has varies on each subfield
 .  One area of science that JWST is particularly impactful for is substell
 ar Astrophysics or the study of objects that do not have stable Hydrogen b
 urning.  Often called brown dwarfs\, sources that do not have enough mass 
 to ignite a core with fusion cool throughout their lives.  Their effective
  temperatures are a fraction of that of the Sun so they are not visible to
  the naked eye.  Instead they give off the majority of their light in the 
 infrared where JWST is optimized.  \n\nBrown dwarfs are rich Astrophysical
  objects that cross in their properties with low mass stars and giant exop
 lanets.  In this webinar I will take you through how and what JWST will be
  doing scientifically at the crossroads of stars and planets.  I’ll focus 
 on a new program that I have accepted as well as several accepted projects
  by instrument science teams that will revolutionize what we know about at
 mospheres of worlds beyond our solar system.\n\nAbout Jackie Faherty: \nJa
 ckie Faherty is a senior scientist and senior education manager at the Ame
 rican Museum of Natural History (AMNH).  Her research group entitled “Brow
 n Dwarfs in New York City (BDNYC)” is at the forefront of low mass star\, 
 brown dwarf and giant exoplanet characterization studies.  She is also co-
 founder of the successful citizen science project called “Backyard Worlds:
  Planet 9' which has involved over 150\,000 volunteers in searches for pre
 viously missed cold components of the nearby solar neighborhood.  In her u
 nique position at AMNH\, Faherty strives to create more opportunities for 
 underrepresented minorities to enter STEM through unique outreach endeavor
 s.\n\nThe event will also be streaming live on YouTube\, but please note t
 hat questions asked over the NSN-members-only Zoom Q&A will be prioritized
 .
X-WR-RELCALID:02548d9614880bc6e22b411360b92378
X-WR-TIMEZONE:America/Los_Angeles
BEGIN:VTIMEZONE
TZID:America/Los_Angeles
BEGIN:STANDARD
TZNAME:PST
DTSTART:20211107T020000
TZOFFSETFROM:-0700
TZOFFSETTO:-0800
RDATE:20221106T020000
RDATE:20231105T020000
END:STANDARD
BEGIN:DAYLIGHT
TZNAME:PDT
DTSTART:20220313T020000
TZOFFSETFROM:-0800
TZOFFSETTO:-0700
RDATE:20230312T020000
RDATE:20240310T020000
END:DAYLIGHT
END:VTIMEZONE
BEGIN:VEVENT
UID:464fcb71-fb8f-433a-976b-0f80f951db84
DTSTAMP:20260425T153016Z
DESCRIPTION:Join us on Tuesday\, October 18 at 6pm Pacific/9pm Eastern as J
 ackie Faherty from the American Museum of Natural History tells us about t
 he JWST will enhance our understanding of low mass stars\, and exoplanets.
 \n\nThe James Webb Space Telescope is a game changer in Astronomy.  Howeve
 r the influence that this momentous telescope has varies on each subfield.
   One area of science that JWST is particularly impactful for is substella
 r Astrophysics or the study of objects that do not have stable Hydrogen bu
 rning.  Often called brown dwarfs\, sources that do not have enough mass t
 o ignite a core with fusion cool throughout their lives.  Their effective 
 temperatures are a fraction of that of the Sun so they are not visible to 
 the naked eye.  Instead they give off the majority of their light in the i
 nfrared where JWST is optimized.  \n\nBrown dwarfs are rich Astrophysical 
 objects that cross in their properties with low mass stars and giant exopl
 anets.  In this webinar I will take you through how and what JWST will be 
 doing scientifically at the crossroads of stars and planets.  I’ll focus o
 n a new program that I have accepted as well as several accepted projects 
 by instrument science teams that will revolutionize what we know about atm
 ospheres of worlds beyond our solar system.\n\nAbout Jackie Faherty: \nJac
 kie Faherty is a senior scientist and senior education manager at the Amer
 ican Museum of Natural History (AMNH).  Her research group entitled “Brown
  Dwarfs in New York City (BDNYC)” is at the forefront of low mass star\, b
 rown dwarf and giant exoplanet characterization studies.  She is also co-f
 ounder of the successful citizen science project called “Backyard Worlds: 
 Planet 9' which has involved over 150\,000 volunteers in searches for prev
 iously missed cold components of the nearby solar neighborhood.  In her un
 ique position at AMNH\, Faherty strives to create more opportunities for u
 nderrepresented minorities to enter STEM through unique outreach endeavors
 .\n\nThe event will also be streaming live on YouTube\, but please note th
 at questions asked over the NSN-members-only Zoom Q&A will be prioritized.
DTSTART;TZID=America/Los_Angeles:20221018T180000
DTEND;TZID=America/Los_Angeles:20221018T190000
LOCATION:Live Stream YouTube Webinar - Free
SUMMARY:Free Live NSN Webinar Series:  Brown Dwarfs and Directly Imaged Exo
 planets in the Era of JWST
END:VEVENT
END:VCALENDAR
