BEGIN:VCALENDAR
VERSION:2.0
PRODID:-//astrosociety.org//NONSGML kigkonsult.se iCalcreator 2.30.10//
CALSCALE:GREGORIAN
METHOD:PUBLISH
UID:633dec31-98ad-42ce-aa4e-0d64591dbee9
X-WR-CALDESC:We invite Astro 101 instructors\, K-12 educators\, scientists\
 , science communicators\, and public engagement professionals in astronomy
  and related fields to join us all for ASP2022: Virtual Conference. Whethe
 r you teach astronomy to students\, engage the public in astronomy live or
  online\, or design astronomy learning experiences\, the virtual 134th Ann
 ual Meeting of the ASP is not to be missed!
X-WR-RELCALID:2bb720475e2002c07ca45f415e8daedc
X-WR-TIMEZONE:America/Los_Angeles
BEGIN:VTIMEZONE
TZID:America/Los_Angeles
BEGIN:STANDARD
TZNAME:PST
DTSTART:20211107T020000
TZOFFSETFROM:-0700
TZOFFSETTO:-0800
RDATE:20221106T020000
RDATE:20231105T020000
END:STANDARD
BEGIN:DAYLIGHT
TZNAME:PDT
DTSTART:20220313T020000
TZOFFSETFROM:-0800
TZOFFSETTO:-0700
RDATE:20230312T020000
RDATE:20240310T020000
END:DAYLIGHT
END:VTIMEZONE
BEGIN:VEVENT
UID:5545b979-2b46-462a-a80b-f971cd3f266e
DTSTAMP:20260425T153052Z
DESCRIPTION:We invite Astro 101 instructors\, K-12 educators\, scientists\,
  science communicators\, and public engagement professionals in astronomy 
 and related fields to join us all for ASP2022: Virtual Conference. Whether
  you teach astronomy to students\, engage the public in astronomy live or 
 online\, or design astronomy learning experiences\, the virtual 134th Annu
 al Meeting of the ASP is not to be missed!
DTSTART;TZID=America/Los_Angeles:20221024T000000
DTEND;TZID=America/Los_Angeles:20221024T235900
LOCATION:Online
SUMMARY:Early Bird Registration Open for ASP2022: A Virtual Conference held
  Dec 8-10
END:VEVENT
END:VCALENDAR
