BEGIN:VCALENDAR
VERSION:2.0
PRODID:-//astrosociety.org//NONSGML kigkonsult.se iCalcreator 2.30.10//
CALSCALE:GREGORIAN
METHOD:PUBLISH
UID:ca5f9981-e7bb-4a4a-a220-6d4d2357cc3e
X-WR-CALDESC:We invite Astro 101 instructors\, K-12 educators\, scientists\
 , science communicators\, and public engagement professionals in astronomy
  and related fields to join us all for ASP2022: Virtual Conference. Whethe
 r you teach astronomy to students\, engage the public in astronomy live or
  online\, or design astronomy learning experiences\, the virtual 134th Ann
 ual Meeting of the ASP is not to be missed!
X-WR-RELCALID:0bdf476c68875654b447c5e40edfdbf6
X-WR-TIMEZONE:America/Los_Angeles
BEGIN:VTIMEZONE
TZID:America/Los_Angeles
BEGIN:STANDARD
TZNAME:PST
DTSTART:20221106T020000
TZOFFSETFROM:-0700
TZOFFSETTO:-0800
RDATE:20231105T020000
END:STANDARD
BEGIN:DAYLIGHT
TZNAME:PDT
DTSTART:20220313T020000
TZOFFSETFROM:-0800
TZOFFSETTO:-0700
RDATE:20230312T020000
RDATE:20240310T020000
END:DAYLIGHT
END:VTIMEZONE
BEGIN:VEVENT
UID:9aa9f7a1-f645-41f3-8b46-49eee5d89046
DTSTAMP:20260425T173129Z
DESCRIPTION:We invite Astro 101 instructors\, K-12 educators\, scientists\,
  science communicators\, and public engagement professionals in astronomy 
 and related fields to join us all for ASP2022: Virtual Conference. Whether
  you teach astronomy to students\, engage the public in astronomy live or 
 online\, or design astronomy learning experiences\, the virtual 134th Annu
 al Meeting of the ASP is not to be missed!
DTSTART;TZID=America/Los_Angeles:20221115T000000
DTEND;TZID=America/Los_Angeles:20221115T235900
LOCATION:Early Bird Savings ends for Registration 11/15 8:59pm PT
SUMMARY:Early Bird Registration Ends 11/15 for ASP2022: A Virtual Conferenc
 e held Dec 8-10
END:VEVENT
END:VCALENDAR
