BEGIN:VCALENDAR
VERSION:2.0
PRODID:-//astrosociety.org//NONSGML kigkonsult.se iCalcreator 2.30.10//
CALSCALE:GREGORIAN
METHOD:PUBLISH
UID:0c125839-19dd-430d-92a5-ebf427843b1b
X-WR-CALDESC:Join the NASA Night Sky Network on Tuesday\, November 15 at 6p
 m Pacific/9pm Eastern as Dr. Francis Halzen from the University of Wiscons
 in-Madison tells us about IceCube\, a neutrino observatory located at the 
 South Pole in Antarctica.\n\nWith funding from the National Science Founda
 tion the IceCube project at the South Pole melted eighty-six holes over 1.
 5 miles deep in the Antarctic icecap to construct an enormous astronomical
  observatory. The experiment discovered a flux of neutrinos reaching us fr
 om the cosmos\, with energies more than a million times those of neutrinos
  produced at accelerator laboratories. These cosmic neutrinos are astronom
 ical messengers coming from some of the most violent processes in the univ
 erse and from the biggest explosions since the Big Bang. We will discuss t
 he IceCube telescope and highlight the recent discoveries that some high-e
 nergy neutrinos—and cosmic rays—originate from sources powered by rotating
  supermassive black holes.\n\nAbout Dr. Francis Halzen: \n\nFrancis Halzen
  is a Vilas and Gregory Breit Distinguished Professor of Physics at the Un
 iversity of Wisconsin–Madison. Born in Belgium\, Halzen received his Maste
 r’s and PhD degrees from the KUL Leuven\, Belgium\, and has been on the ph
 ysics faculty at UW–Madison since 1972\; in 2021\, Halzen was named a Vila
 s Research Professor\, one of the university’s most prestigious honors. He
  has been a fellow of the American Physical Society since 1994\, and is th
 e recipient of numerous awards\, including the 2014 Smithsonian American I
 ngenuity Award\, the 2015 Balzan Prize\, a 2018 Bruno Pontecorvo Prize\, t
 he 2019 IUPAP Yodh Prize\, the 2021 Bruno Rossi Prize of the American Astr
 onomical Society\, the 2021 Homi Bhabha Award\, and honorary doctorates at
  several universities.\n\nHalzen is the Principal Investigator of IceCube\
 , a cubic-kilometer neutrino telescope buried in the Antarctic ice at the 
 South Pole. IceCube’s first observations of high-energy cosmic neutrinos g
 arnered the 2013 Physics World Breakthrough of the Year Award. In Septembe
 r 2017\, IceCube detected a high-energy neutrino from the direction of a b
 lazar called TXS 0506+056. This was the first-ever evidence of a source of
  high-energy cosmic rays\, whose origins have been notoriously difficult t
 o pinpoint since they were discovered over one hundred years ago.\nA skill
 ed science communicator\, Halzen travels widely\, giving about 20 or more 
 invited talks per year at conferences\, workshops\, and colloquia. He also
  gives regular public talks to local and national groups and interviews fo
 r television and radio. Halzen is the co-author of Quarks and Leptons\, a 
 classic textbook on modern particle physics that continues to be used exte
 nsively throughout college campuses today. He has a large number of public
 ations to his credit and has written or edited several other books. His es
 say “Antarctic Dreams\,” about the early days of AMANDA\, IceCube’s precur
 sor\, was featured in The Best American Science Writing 2000.\n\nThe event
  will also be streaming live on YouTube\, but please note that questions a
 sked over the NSN-members-only Zoom Q&A will be prioritized.
X-WR-RELCALID:9a8908e3daa8157ff049bf2c45b80f9f
X-WR-TIMEZONE:America/Los_Angeles
BEGIN:VTIMEZONE
TZID:America/Los_Angeles
BEGIN:STANDARD
TZNAME:PST
DTSTART:20221106T020000
TZOFFSETFROM:-0700
TZOFFSETTO:-0800
RDATE:20231105T020000
END:STANDARD
BEGIN:DAYLIGHT
TZNAME:PDT
DTSTART:20220313T020000
TZOFFSETFROM:-0800
TZOFFSETTO:-0700
RDATE:20230312T020000
RDATE:20240310T020000
END:DAYLIGHT
END:VTIMEZONE
BEGIN:VEVENT
UID:c242b10f-fa5d-44bb-b12c-19514348b361
DTSTAMP:20260425T172524Z
DESCRIPTION:Join the NASA Night Sky Network on Tuesday\, November 15 at 6pm
  Pacific/9pm Eastern as Dr. Francis Halzen from the University of Wisconsi
 n-Madison tells us about IceCube\, a neutrino observatory located at the S
 outh Pole in Antarctica.\n\nWith funding from the National Science Foundat
 ion the IceCube project at the South Pole melted eighty-six holes over 1.5
  miles deep in the Antarctic icecap to construct an enormous astronomical 
 observatory. The experiment discovered a flux of neutrinos reaching us fro
 m the cosmos\, with energies more than a million times those of neutrinos 
 produced at accelerator laboratories. These cosmic neutrinos are astronomi
 cal messengers coming from some of the most violent processes in the unive
 rse and from the biggest explosions since the Big Bang. We will discuss th
 e IceCube telescope and highlight the recent discoveries that some high-en
 ergy neutrinos—and cosmic rays—originate from sources powered by rotating 
 supermassive black holes.\n\nAbout Dr. Francis Halzen: \n\nFrancis Halzen 
 is a Vilas and Gregory Breit Distinguished Professor of Physics at the Uni
 versity of Wisconsin–Madison. Born in Belgium\, Halzen received his Master
 ’s and PhD degrees from the KUL Leuven\, Belgium\, and has been on the phy
 sics faculty at UW–Madison since 1972\; in 2021\, Halzen was named a Vilas
  Research Professor\, one of the university’s most prestigious honors. He 
 has been a fellow of the American Physical Society since 1994\, and is the
  recipient of numerous awards\, including the 2014 Smithsonian American In
 genuity Award\, the 2015 Balzan Prize\, a 2018 Bruno Pontecorvo Prize\, th
 e 2019 IUPAP Yodh Prize\, the 2021 Bruno Rossi Prize of the American Astro
 nomical Society\, the 2021 Homi Bhabha Award\, and honorary doctorates at 
 several universities.\n\nHalzen is the Principal Investigator of IceCube\,
  a cubic-kilometer neutrino telescope buried in the Antarctic ice at the S
 outh Pole. IceCube’s first observations of high-energy cosmic neutrinos ga
 rnered the 2013 Physics World Breakthrough of the Year Award. In September
  2017\, IceCube detected a high-energy neutrino from the direction of a bl
 azar called TXS 0506+056. This was the first-ever evidence of a source of 
 high-energy cosmic rays\, whose origins have been notoriously difficult to
  pinpoint since they were discovered over one hundred years ago.\nA skille
 d science communicator\, Halzen travels widely\, giving about 20 or more i
 nvited talks per year at conferences\, workshops\, and colloquia. He also 
 gives regular public talks to local and national groups and interviews for
  television and radio. Halzen is the co-author of Quarks and Leptons\, a c
 lassic textbook on modern particle physics that continues to be used exten
 sively throughout college campuses today. He has a large number of publica
 tions to his credit and has written or edited several other books. His ess
 ay “Antarctic Dreams\,” about the early days of AMANDA\, IceCube’s precurs
 or\, was featured in The Best American Science Writing 2000.\n\nThe event 
 will also be streaming live on YouTube\, but please note that questions as
 ked over the NSN-members-only Zoom Q&A will be prioritized.
DTSTART;TZID=America/Los_Angeles:20221115T180000
DTEND;TZID=America/Los_Angeles:20221115T190000
LOCATION:Live Stream YouTube Webinar - Free
SUMMARY:Free Live NSN Webinar Series:IceCube: A Neutrino Window on the Univ
 erse
END:VEVENT
END:VCALENDAR
