BEGIN:VCALENDAR
VERSION:2.0
PRODID:-//astrosociety.org//NONSGML kigkonsult.se iCalcreator 2.30.10//
CALSCALE:GREGORIAN
METHOD:PUBLISH
UID:fb9d3a40-5736-45ab-b1f1-7bb2c640917e
X-WR-CALDESC:About the Conference\n\nExcitement is building around the upco
 ming solar eclipses and stunning images coming from the JWST. Together let
 's increase science literacy through the public’s excitement about space\,
  new telescopes\, and modern astronomy!\n\nWe invite Astro 101 instructors
 \, K-12 educators\, scientists\, science communicators\, and public engage
 ment professionals in astronomy and related fields to join us all for ASP2
 022: Virtual Conference. Whether you teach astronomy to students\, engage 
 the public in astronomy live or online\, or design astronomy learning expe
 riences\, the virtual 134th Annual Meeting of the ASP is not to be missed!
 \n\nProgram strands for ASP2022 include:\n\n    -Teaching Astronomy – New 
 Opportunities\, Tools\, Innovations\, and Resources\n    -Getting Ready fo
 r Upcoming Solar Eclipses!\n   - Modern Astronomy and Big Data: New Challe
 nges in Science Communication\n   - Doing Public Astronomy Engagement in I
 nformal Settings\n   - Communicating Astronomy through New Media\n   - Eng
 aging the Public in Science via Amateur Astronomy & Citizen Science\n    -
 Advancing Diversity\, Equity\, Inclusion\, Access & Social Justice\n   - A
 ddressing Climate/Environmental Science & Preserving Dark Skies\n\nReconve
 ne with colleagues from around the world\, update folks on what you've bee
 n working on\, and learn about best practices\, innovative ideas\, lessons
  learned\, research findings\, and evaluation results from our global comm
 unity.\n\nCall for Abstracts now Open!\nRegistration coming soon - sign up
  for Events @ASP to be notified
X-WR-RELCALID:082f9deb23535ab9a67cd7edec360587
X-WR-TIMEZONE:America/Los_Angeles
BEGIN:VTIMEZONE
TZID:America/Los_Angeles
BEGIN:STANDARD
TZNAME:PST
DTSTART:20221106T020000
TZOFFSETFROM:-0700
TZOFFSETTO:-0800
RDATE:20231105T020000
END:STANDARD
BEGIN:DAYLIGHT
TZNAME:PDT
DTSTART:20220313T020000
TZOFFSETFROM:-0800
TZOFFSETTO:-0700
RDATE:20230312T020000
RDATE:20240310T020000
END:DAYLIGHT
END:VTIMEZONE
BEGIN:VEVENT
UID:6de6921f-efba-4abe-a8d9-93cb94972b60
DTSTAMP:20260425T210452Z
DESCRIPTION:About the Conference\n\nExcitement is building around the upcom
 ing solar eclipses and stunning images coming from the JWST. Together let'
 s increase science literacy through the public’s excitement about space\, 
 new telescopes\, and modern astronomy!\n\nWe invite Astro 101 instructors\
 , K-12 educators\, scientists\, science communicators\, and public engagem
 ent professionals in astronomy and related fields to join us all for ASP20
 22: Virtual Conference. Whether you teach astronomy to students\, engage t
 he public in astronomy live or online\, or design astronomy learning exper
 iences\, the virtual 134th Annual Meeting of the ASP is not to be missed!
 \n\nProgram strands for ASP2022 include:\n\n    -Teaching Astronomy – New 
 Opportunities\, Tools\, Innovations\, and Resources\n    -Getting Ready fo
 r Upcoming Solar Eclipses!\n   - Modern Astronomy and Big Data: New Challe
 nges in Science Communication\n   - Doing Public Astronomy Engagement in I
 nformal Settings\n   - Communicating Astronomy through New Media\n   - Eng
 aging the Public in Science via Amateur Astronomy & Citizen Science\n    -
 Advancing Diversity\, Equity\, Inclusion\, Access & Social Justice\n   - A
 ddressing Climate/Environmental Science & Preserving Dark Skies\n\nReconve
 ne with colleagues from around the world\, update folks on what you've bee
 n working on\, and learn about best practices\, innovative ideas\, lessons
  learned\, research findings\, and evaluation results from our global comm
 unity.\n\nCall for Abstracts now Open!\nRegistration coming soon - sign up
  for Events @ASP to be notified
DTSTART;TZID=America/Los_Angeles:20221208T000000
DTEND;TZID=America/Los_Angeles:20221210T235900
LOCATION:Online Zoom Webinars\, Workshops\, and Oral Talks
SUMMARY:ASP2022: A Virtual Conference - Solar Eclipses to Space Telescopes
END:VEVENT
END:VCALENDAR
