BEGIN:VCALENDAR
VERSION:2.0
PRODID:-//astrosociety.org//NONSGML kigkonsult.se iCalcreator 2.30.10//
CALSCALE:GREGORIAN
METHOD:PUBLISH
UID:6908bc6a-564f-4ac0-8825-4d376406161b
X-WR-CALDESC:Nominations for the Prestigious ASP Annual Awards are open thr
 ough March 15\, 2023\n\nThe ASP recognizes individual achievements in astr
 onomy research\, technology\, education\, and public outreach each year. R
 ecipients of our awards have included luminaries such as Edwin Hubble\, Ve
 ra Rubin\, Isaac Asimov\, Margaret Burbidge\, Carl Sagan\, and most recent
 ly\, Katherine Johnson.\n\nOur most prestigious award\, the Catherine Wolf
 e Bruce Gold Medal\, was established in 1889 by Catherine Wolfe Bruce\, an
  American philanthropist and patroness of astronomy. The Bruce has been aw
 arded annually by the ASP to a professional astronomer in recognition of a
  lifetime of outstanding achievement and contributions to astrophysics res
 earch and is one of the most important awards in the field.
X-WR-RELCALID:326653b3ce1b739f09c48cc5e106cead
X-WR-TIMEZONE:America/Los_Angeles
BEGIN:VTIMEZONE
TZID:America/Los_Angeles
BEGIN:STANDARD
TZNAME:PST
DTSTART:20221106T020000
TZOFFSETFROM:-0700
TZOFFSETTO:-0800
RDATE:20231105T020000
END:STANDARD
BEGIN:DAYLIGHT
TZNAME:PDT
DTSTART:20230312T020000
TZOFFSETFROM:-0800
TZOFFSETTO:-0700
RDATE:20240310T020000
END:DAYLIGHT
END:VTIMEZONE
BEGIN:VEVENT
UID:7d981c46-5c47-4cdf-a1cb-f69be42582c7
DTSTAMP:20260426T001937Z
DESCRIPTION:Nominations for the Prestigious ASP Annual Awards are open thro
 ugh March 15\, 2023\n\nThe ASP recognizes individual achievements in astro
 nomy research\, technology\, education\, and public outreach each year. Re
 cipients of our awards have included luminaries such as Edwin Hubble\, Ver
 a Rubin\, Isaac Asimov\, Margaret Burbidge\, Carl Sagan\, and most recentl
 y\, Katherine Johnson.\n\nOur most prestigious award\, the Catherine Wolfe
  Bruce Gold Medal\, was established in 1889 by Catherine Wolfe Bruce\, an 
 American philanthropist and patroness of astronomy. The Bruce has been awa
 rded annually by the ASP to a professional astronomer in recognition of a 
 lifetime of outstanding achievement and contributions to astrophysics rese
 arch and is one of the most important awards in the field.
DTSTART;TZID=America/Los_Angeles:20230315T000000
DTEND;TZID=America/Los_Angeles:20230315T235900
LOCATION:
SUMMARY:2023 ASP Awards Nominations Close
END:VEVENT
END:VCALENDAR
