BEGIN:VCALENDAR
VERSION:2.0
PRODID:-//astrosociety.org//NONSGML kigkonsult.se iCalcreator 2.30.10//
CALSCALE:GREGORIAN
METHOD:PUBLISH
UID:d7768292-da99-44e3-aeb2-954d6b602b13
X-WR-CALDESC:\nJoin us at San Francisco State University for 'Earth Week at
  SFSU'\n\nClimate HQ and Environmental Resource Center from SFSU will be h
 osting and supporting a week of climate-related events on the SFSU campus 
 for students\, faculty\, staff\, and community members.\n\nThe ASP will be
  part of the April 20th STEAM DAY event sharing hands-on activities and ma
 terials from 11am - 3pm PT at MalcolmX Plaza on campus.\n\nThe week includ
 es a film festival\, panels on local action you can take to address climat
 e change\, hands-on workshops to create art and posters for climate justic
 e\, attend a symposium on food justice\, view showcases of student climate
  work and much more.\n\nVisit the schedule below.\n\n
X-WR-RELCALID:116c05a3f5240ed1df58af9f41250e51
X-WR-TIMEZONE:America/Los_Angeles
BEGIN:VTIMEZONE
TZID:America/Los_Angeles
BEGIN:STANDARD
TZNAME:PST
DTSTART:20221106T020000
TZOFFSETFROM:-0700
TZOFFSETTO:-0800
RDATE:20231105T020000
END:STANDARD
BEGIN:DAYLIGHT
TZNAME:PDT
DTSTART:20230312T020000
TZOFFSETFROM:-0800
TZOFFSETTO:-0700
RDATE:20240310T020000
END:DAYLIGHT
END:VTIMEZONE
BEGIN:VEVENT
UID:71fe8728-1d6a-46fa-bd32-b9e33464db6d
DTSTAMP:20260426T020857Z
DESCRIPTION:\nJoin us at San Francisco State University for 'Earth Week at 
 SFSU'\n\nClimate HQ and Environmental Resource Center from SFSU will be ho
 sting and supporting a week of climate-related events on the SFSU campus f
 or students\, faculty\, staff\, and community members.\n\nThe ASP will be 
 part of the April 20th STEAM DAY event sharing hands-on activities and mat
 erials from 11am - 3pm PT at MalcolmX Plaza on campus.\n\nThe week include
 s a film festival\, panels on local action you can take to address climate
  change\, hands-on workshops to create art and posters for climate justice
 \, attend a symposium on food justice\, view showcases of student climate 
 work and much more.\n\nVisit the schedule below.\n\n
DTSTART;TZID=America/Los_Angeles:20230417T120000
DTEND;TZID=America/Los_Angeles:20230421T170000
LOCATION:San Francisco State University\, San Francisco\, California
SUMMARY:Partner Event: Earth Week at San Francisco State University 4/17-21
END:VEVENT
END:VCALENDAR
