BEGIN:VCALENDAR
VERSION:2.0
PRODID:-//astrosociety.org//NONSGML kigkonsult.se iCalcreator 2.30.10//
CALSCALE:GREGORIAN
METHOD:PUBLISH
UID:6b605fe8-f99f-41b7-980f-6bf04da68c4d
X-WR-CALDESC:April 29 is Big Astronomy Day:\nThroughout the month of April\
 , communities across the world will host events screening the award-winnin
 g film “Big Astronomy: People\, Places\, Discoveries.” Look for local scho
 ols\, libraries\, museums\, planetariums and other community spaces who mi
 ght be hosting a Big Astronomy Community Event in April.\n\nEvent Hosts: 
 \nOriginally intended for planetarium display\, the Big Astronomy show has
  also been formatted for flat screen! Event hosts and educators can access
  the film for free at the Big Astronomy site (see link below). The film is
  subtitled and available in English\, Spanish\, German and French. Hosts a
 nd educators can also access a wealth of educational resources including h
 ands-on activities and additional interview footage with observatory staff
 .\n\nAccessibility:\nTeaching and Learning Resources for blind and low vis
 ion (BLV) and deaf and hard of hearing (DHH) persons are now available! Th
 anks to support from the US National Science Foundation\, the Big Astronom
 y film and supplemental videos include captioning and some include descrip
 tive audio. In addition\, The ASP created a suite of hands-on activities t
 hat now include new resources for BLV learners. See below to apply for a B
 lind and Low Vision kit.
X-WR-RELCALID:33724136aa4032e9b7b4fe82f11610cb
X-WR-TIMEZONE:America/Los_Angeles
BEGIN:VTIMEZONE
TZID:America/Los_Angeles
BEGIN:STANDARD
TZNAME:PST
DTSTART:20221106T020000
TZOFFSETFROM:-0700
TZOFFSETTO:-0800
RDATE:20231105T020000
END:STANDARD
BEGIN:DAYLIGHT
TZNAME:PDT
DTSTART:20230312T020000
TZOFFSETFROM:-0800
TZOFFSETTO:-0700
RDATE:20240310T020000
END:DAYLIGHT
END:VTIMEZONE
BEGIN:VEVENT
UID:09c55de8-a8dc-46f5-9053-e4a97b1ba599
DTSTAMP:20260426T020841Z
DESCRIPTION:April 29 is Big Astronomy Day:\nThroughout the month of April\,
  communities across the world will host events screening the award-winning
  film “Big Astronomy: People\, Places\, Discoveries.” Look for local schoo
 ls\, libraries\, museums\, planetariums and other community spaces who mig
 ht be hosting a Big Astronomy Community Event in April.\n\nEvent Hosts: \n
 Originally intended for planetarium display\, the Big Astronomy show has a
 lso been formatted for flat screen! Event hosts and educators can access t
 he film for free at the Big Astronomy site (see link below). The film is s
 ubtitled and available in English\, Spanish\, German and French. Hosts and
  educators can also access a wealth of educational resources including han
 ds-on activities and additional interview footage with observatory staff.
 \n\nAccessibility:\nTeaching and Learning Resources for blind and low visi
 on (BLV) and deaf and hard of hearing (DHH) persons are now available! Tha
 nks to support from the US National Science Foundation\, the Big Astronomy
  film and supplemental videos include captioning and some include descript
 ive audio. In addition\, The ASP created a suite of hands-on activities th
 at now include new resources for BLV learners. See below to apply for a Bl
 ind and Low Vision kit.
DTSTART;TZID=America/Los_Angeles:20230429T000000
DTEND;TZID=America/Los_Angeles:20230429T235900
LOCATION:
SUMMARY:Big Astronomy Day and International Astronomy Day
END:VEVENT
END:VCALENDAR
