BEGIN:VCALENDAR
VERSION:2.0
PRODID:-//astrosociety.org//NONSGML kigkonsult.se iCalcreator 2.30.10//
CALSCALE:GREGORIAN
METHOD:PUBLISH
UID:4f0d6d66-d289-47f9-a079-a61a41e92c35
X-WR-CALDESC:Join the NASA Night Sky Network on Tuesday\, May 23 at 6:00pm 
 Pacific Time (9:00pm Eastern) when Brian Day from NASA’s SSERVI returns to
  bring us up to date about NASA’s plans for lunar exploration\, including 
 the Artemis missions.\n\nThe Artemis missions will include a mix of crewed
  and robotic landings. Thirteen regions near the South Pole of the Moon ha
 ve been identified as candidates for human exploration. Some of these same
  regions have also been targeted for precursor robotic landings through th
 e Commercial Lunar Payload Services (CLPS) Program. In addition\, location
 s away from the South Pole have been designated as targeted sites for robo
 tic exploration due to some fascinating aspects of these sites.  Other loc
 ations which have not yet been assigned landers are high on the lunar scie
 nce community’s list of important lunar locations to be explored. In this 
 presentation\, we will examine key potential target sites on the Moon\, di
 scuss what makes them so compelling\, and demonstrate how members of the p
 ublic can conduct their own explorations of these amazing lunar locations 
 using NASA’s Moon Trek data visualization and analysis portal.\n\nAbout Br
 ian Day\n\nBrian Day currently serves as Acting Staff Scientist at NASA’s 
 Solar System Exploration Research Virtual Institute (SSERVI). He is also S
 SERVI’s Lead for Lunar and Planetary Mapping and Modeling. In this role\, 
 he serves as program office level project manager and science lead for NAS
 A’s Solar System Treks Project (https://trek.nasa.gov). Brian has particip
 ated in various lunar and Mars analog field studies in extreme environment
 s here on Earth. He previously served as Education and Public Outreach Lea
 d for the LCROSS and LADEE robotic missions to the Moon. In 2007 he flew o
 n NASA’s Aurigid MAC mission to record debris from Comet Kiess entering Ea
 rth’s upper atmosphere.\n\nThe event will be streaming live on YouTube\, b
 ut please note that questions asked over the NSN-members-only Zoom Q&A wil
 l be prioritized.
X-WR-RELCALID:3390a6fa0c7c28e24175255e3e5dfe74
X-WR-TIMEZONE:America/Los_Angeles
BEGIN:VTIMEZONE
TZID:America/Los_Angeles
BEGIN:STANDARD
TZNAME:PST
DTSTART:20221106T020000
TZOFFSETFROM:-0700
TZOFFSETTO:-0800
RDATE:20231105T020000
RDATE:20241103T020000
END:STANDARD
BEGIN:DAYLIGHT
TZNAME:PDT
DTSTART:20230312T020000
TZOFFSETFROM:-0800
TZOFFSETTO:-0700
RDATE:20240310T020000
END:DAYLIGHT
END:VTIMEZONE
BEGIN:VEVENT
UID:2ca2aec5-e390-4051-b84d-36e651f55671
DTSTAMP:20260426T033506Z
DESCRIPTION:Join the NASA Night Sky Network on Tuesday\, May 23 at 6:00pm P
 acific Time (9:00pm Eastern) when Brian Day from NASA’s SSERVI returns to 
 bring us up to date about NASA’s plans for lunar exploration\, including t
 he Artemis missions.\n\nThe Artemis missions will include a mix of crewed 
 and robotic landings. Thirteen regions near the South Pole of the Moon hav
 e been identified as candidates for human exploration. Some of these same 
 regions have also been targeted for precursor robotic landings through the
  Commercial Lunar Payload Services (CLPS) Program. In addition\, locations
  away from the South Pole have been designated as targeted sites for robot
 ic exploration due to some fascinating aspects of these sites.  Other loca
 tions which have not yet been assigned landers are high on the lunar scien
 ce community’s list of important lunar locations to be explored. In this p
 resentation\, we will examine key potential target sites on the Moon\, dis
 cuss what makes them so compelling\, and demonstrate how members of the pu
 blic can conduct their own explorations of these amazing lunar locations u
 sing NASA’s Moon Trek data visualization and analysis portal.\n\nAbout Bri
 an Day\n\nBrian Day currently serves as Acting Staff Scientist at NASA’s S
 olar System Exploration Research Virtual Institute (SSERVI). He is also SS
 ERVI’s Lead for Lunar and Planetary Mapping and Modeling. In this role\, h
 e serves as program office level project manager and science lead for NASA
 ’s Solar System Treks Project (https://trek.nasa.gov). Brian has participa
 ted in various lunar and Mars analog field studies in extreme environments
  here on Earth. He previously served as Education and Public Outreach Lead
  for the LCROSS and LADEE robotic missions to the Moon. In 2007 he flew on
  NASA’s Aurigid MAC mission to record debris from Comet Kiess entering Ear
 th’s upper atmosphere.\n\nThe event will be streaming live on YouTube\, bu
 t please note that questions asked over the NSN-members-only Zoom Q&A will
  be prioritized.
DTSTART;TZID=America/Los_Angeles:20230523T180000
DTEND;TZID=America/Los_Angeles:20230523T190000
LOCATION:Live Stream YouTube Webinar - Free
SUMMARY:Free Live NSN Webinar Series: Destination: Moon - with Brian Day
END:VEVENT
END:VCALENDAR
