BEGIN:VCALENDAR
VERSION:2.0
PRODID:-//astrosociety.org//NONSGML kigkonsult.se iCalcreator 2.30.10//
CALSCALE:GREGORIAN
METHOD:PUBLISH
UID:96dd9625-1676-4162-b4d5-300e8f1a453f
X-WR-CALDESC:
X-WR-RELCALID:fcd7be8f490803520aafa9680d7bf746
X-WR-TIMEZONE:America/Los_Angeles
BEGIN:VTIMEZONE
TZID:America/Los_Angeles
BEGIN:STANDARD
TZNAME:PST
DTSTART:20231105T020000
TZOFFSETFROM:-0700
TZOFFSETTO:-0800
RDATE:20241103T020000
END:STANDARD
BEGIN:DAYLIGHT
TZNAME:PDT
DTSTART:20230312T020000
TZOFFSETFROM:-0800
TZOFFSETTO:-0700
RDATE:20240310T020000
RDATE:20250309T020000
END:DAYLIGHT
END:VTIMEZONE
BEGIN:VEVENT
UID:9967e393-a20d-4a47-8494-f0737c81d5cf
DTSTAMP:20260425T191544Z
DESCRIPTION:
DTSTART;TZID=America/Los_Angeles:20240229T030000
DTEND;TZID=America/Los_Angeles:20240229T030001
LOCATION:
SUMMARY:Partner Event: NASA's Astrophoto Challenge Winter 2024
END:VEVENT
END:VCALENDAR
