BEGIN:VCALENDAR
VERSION:2.0
PRODID:-//astrosociety.org//NONSGML kigkonsult.se iCalcreator 2.30.10//
CALSCALE:GREGORIAN
METHOD:PUBLISH
UID:ce5e9e57-179b-4a0a-a072-50d5360ce5c4
X-WR-CALDESC:Join the NASA Night Sky Network on Tuesday\, November 19\, at 
 5:00 PM Pacific Time (8:00 PM Eastern) along with Dr. Kimberly Arcand wher
 e we’ll discuss 25 years of Chandra X-ray Observatory discoveries.\n\nIn t
 he past 25 years\, NASA’s Chandra X-ray Observatory has made profound disc
 overies and contributed invaluable information about our high energy Unive
 rse. Take a tour through some of the most energetic sights to see\, 3D pri
 nts to touch\, and sonifications to hear of Chandra’s discoveries. Startin
 g from stellar nurseries\, and moving to exploded stars\, black holes\, ga
 laxies and clusters of galaxies\, experience how we translate information 
 of Chandra's exciting universe into images\, time-lapse movies\, virtual r
 eality applications\, and even sound.\n\nAbout Dr. Kimberly Arcand:\n\nDr.
  Kimberly Arcand is a leading expert in astronomy visualization and has be
 en a pioneer in 3D imaging\, printing\, and extended reality applications 
 with astrophysics data. She has worked for NASA's Chandra X-ray Observator
 y at the Smithsonian Astrophysical Observatory since 1998. Her current pro
 jects include sonification of spatial data\, machine learning as applied t
 o image processing\, screen-based holograms and other intersections of eme
 rging technology and astrophysics. She has co-written eight non-fiction sc
 ience books including two science-related children’s books. Arcand and her
  team's work have been featured recently in the New York Times\, Washingto
 n Post\, BBC\, CBC\, LA Times\, and other popular media outlets.\n\nLive S
 tream YouTube link below\n\nScience links:\nhttp://chandra.si.edu\nhttp://
 chandra.si.edu/sound\nhttp://chandra.si.edu/vr\nhttp://chandra.si.edu/corp
 s\nhttps://chandra.harvard.edu/25th/
X-WR-RELCALID:0e27adc5b50907411aa7e5c4a2df221d
X-WR-TIMEZONE:America/Los_Angeles
BEGIN:VTIMEZONE
TZID:America/Los_Angeles
BEGIN:STANDARD
TZNAME:PST
DTSTART:20241103T020000
TZOFFSETFROM:-0700
TZOFFSETTO:-0800
RDATE:20251102T020000
END:STANDARD
BEGIN:DAYLIGHT
TZNAME:PDT
DTSTART:20240310T020000
TZOFFSETFROM:-0800
TZOFFSETTO:-0700
RDATE:20250309T020000
RDATE:20260308T020000
END:DAYLIGHT
END:VTIMEZONE
BEGIN:VEVENT
UID:be6afe6c-7cbc-4721-9554-0668b78eda2b
DTSTAMP:20260420T051522Z
DESCRIPTION:Join the NASA Night Sky Network on Tuesday\, November 19\, at 5
 :00 PM Pacific Time (8:00 PM Eastern) along with Dr. Kimberly Arcand where
  we’ll discuss 25 years of Chandra X-ray Observatory discoveries.\n\nIn th
 e past 25 years\, NASA’s Chandra X-ray Observatory has made profound disco
 veries and contributed invaluable information about our high energy Univer
 se. Take a tour through some of the most energetic sights to see\, 3D prin
 ts to touch\, and sonifications to hear of Chandra’s discoveries. Starting
  from stellar nurseries\, and moving to exploded stars\, black holes\, gal
 axies and clusters of galaxies\, experience how we translate information o
 f Chandra's exciting universe into images\, time-lapse movies\, virtual re
 ality applications\, and even sound.\n\nAbout Dr. Kimberly Arcand:\n\nDr. 
 Kimberly Arcand is a leading expert in astronomy visualization and has bee
 n a pioneer in 3D imaging\, printing\, and extended reality applications w
 ith astrophysics data. She has worked for NASA's Chandra X-ray Observatory
  at the Smithsonian Astrophysical Observatory since 1998. Her current proj
 ects include sonification of spatial data\, machine learning as applied to
  image processing\, screen-based holograms and other intersections of emer
 ging technology and astrophysics. She has co-written eight non-fiction sci
 ence books including two science-related children’s books. Arcand and her 
 team's work have been featured recently in the New York Times\, Washington
  Post\, BBC\, CBC\, LA Times\, and other popular media outlets.\n\nLive St
 ream YouTube link below\n\nScience links:\nhttp://chandra.si.edu\nhttp://c
 handra.si.edu/sound\nhttp://chandra.si.edu/vr\nhttp://chandra.si.edu/corps
 \nhttps://chandra.harvard.edu/25th/
DTSTART;TZID=America/Los_Angeles:20241119T170000
DTEND;TZID=America/Los_Angeles:20241119T190000
LOCATION:
SUMMARY:NSN Webinar: Chandra's High-Energy Universe with Dr. Kimberly Arcan
 d
END:VEVENT
END:VCALENDAR
