BEGIN:VCALENDAR
VERSION:2.0
PRODID:-//astrosociety.org//NONSGML kigkonsult.se iCalcreator 2.30.10//
CALSCALE:GREGORIAN
METHOD:PUBLISH
UID:0bf0fa5e-cb8a-4782-9374-46ff313ea5be
X-WR-CALDESC:
X-WR-RELCALID:ba9c7c3dfdf54bdec81c2354feee85e1
X-WR-TIMEZONE:America/Los_Angeles
BEGIN:VTIMEZONE
TZID:America/Los_Angeles
BEGIN:STANDARD
TZNAME:PST
DTSTART:20241103T020000
TZOFFSETFROM:-0700
TZOFFSETTO:-0800
RDATE:20251102T020000
END:STANDARD
BEGIN:DAYLIGHT
TZNAME:PDT
DTSTART:20250309T020000
TZOFFSETFROM:-0800
TZOFFSETTO:-0700
RDATE:20260308T020000
END:DAYLIGHT
END:VTIMEZONE
BEGIN:VEVENT
UID:3b586a0b-293c-4b43-8712-50ed54495c23
DTSTAMP:20260419T212356Z
DESCRIPTION:
DTSTART;TZID=America/Los_Angeles:20250314T030000
DTEND;TZID=America/Los_Angeles:20250314T030001
LOCATION:
SUMMARY:Pi Day & Einstein's Birthday
END:VEVENT
END:VCALENDAR
