BEGIN:VCALENDAR
VERSION:2.0
PRODID:-//astrosociety.org//NONSGML kigkonsult.se iCalcreator 2.30.10//
CALSCALE:GREGORIAN
METHOD:PUBLISH
UID:97732f40-d043-4833-a736-b16bc0091582
X-WR-CALDESC:Freedom and Independence: Fields\, Streets and Stars! \n\nJoin
  ASP's CEO Hakeem Oluseyi\, hosted in an online conversation July 2 with D
 r. Raquell Holmes\, as he shares his experience and what led him to study 
 the stars. This event is part of 'The Freedom Festival' an invitation to c
 elebrate and explore freedom and independence\, to come together across ra
 ce and class to create a bountiful world for all of us.\n\nDr. Oluyesi has
  appeared on The Science Channel’s Outrageous Acts of Science\, conversati
 on with Neil deGrassi Tyson on StarTalk or on his own Does it fly podcast.
  \n\nHosted in conversation by Dr. Raquell Holmes\, Oluyesi will share his
  experience of freedom in the rural south\, in academia at Tougaloo Colleg
 e and Stanford University. They will explore what he has learned from his 
 communities and history that now shapes how he creates opportunities that 
 build bridges from fields and streets to the stars.\n\nRaquell Holmes is A
 ssociate Director of EdEon STEM Learning at Sonoma State University bringi
 ng high-end technology platforms to teachers and students in rural high sc
 hools and middle schools.  \n\nJuly 2nd\, 4:30pm PT / 6:30pm CT / 7:30pm E
 T
X-WR-RELCALID:79bec6257db89ddd4a906e0396eed35e
X-WR-TIMEZONE:America/Los_Angeles
BEGIN:VTIMEZONE
TZID:America/Los_Angeles
BEGIN:STANDARD
TZNAME:PST
DTSTART:20241103T020000
TZOFFSETFROM:-0700
TZOFFSETTO:-0800
RDATE:20251102T020000
RDATE:20261101T020000
END:STANDARD
BEGIN:DAYLIGHT
TZNAME:PDT
DTSTART:20250309T020000
TZOFFSETFROM:-0800
TZOFFSETTO:-0700
RDATE:20260308T020000
END:DAYLIGHT
END:VTIMEZONE
BEGIN:VEVENT
UID:a8c18f37-bc71-4a47-b61a-0999fbd9921e
DTSTAMP:20260421T125927Z
DESCRIPTION:Freedom and Independence: Fields\, Streets and Stars! \n\nJoin 
 ASP's CEO Hakeem Oluseyi\, hosted in an online conversation July 2 with Dr
 . Raquell Holmes\, as he shares his experience and what led him to study t
 he stars. This event is part of 'The Freedom Festival' an invitation to ce
 lebrate and explore freedom and independence\, to come together across rac
 e and class to create a bountiful world for all of us.\n\nDr. Oluyesi has 
 appeared on The Science Channel’s Outrageous Acts of Science\, conversatio
 n with Neil deGrassi Tyson on StarTalk or on his own Does it fly podcast. 
 \n\nHosted in conversation by Dr. Raquell Holmes\, Oluyesi will share his 
 experience of freedom in the rural south\, in academia at Tougaloo College
  and Stanford University. They will explore what he has learned from his c
 ommunities and history that now shapes how he creates opportunities that b
 uild bridges from fields and streets to the stars.\n\nRaquell Holmes is As
 sociate Director of EdEon STEM Learning at Sonoma State University bringin
 g high-end technology platforms to teachers and students in rural high sch
 ools and middle schools.  \n\nJuly 2nd\, 4:30pm PT / 6:30pm CT / 7:30pm ET
DTSTART;TZID=America/Los_Angeles:20250702T030000
DTEND;TZID=America/Los_Angeles:20250702T030001
LOCATION:
SUMMARY:Freedom and Independence: Fields\, Streets and Stars with ASP's CEO
  Hakeem Oluseyi online at the Freedom Festival
END:VEVENT
END:VCALENDAR
