BEGIN:VCALENDAR
VERSION:2.0
PRODID:-//astrosociety.org//NONSGML kigkonsult.se iCalcreator 2.30.10//
CALSCALE:GREGORIAN
METHOD:PUBLISH
UID:ab8bdffe-36d9-4dce-bd97-51efc2e82d33
X-WR-CALDESC:\n\nIn this two-hour workshop\, join experienced teachers who 
 have taught high school astronomy to cover the “nuts and bolts'' of the “c
 osmic distance ladder.” It is said a telescope is a time machine\, allowin
 g us to look deep into the past of the Universe. Distance and time are ine
 xtricably linked in astronomy. Discover how astronomers determine how far 
 it is to these distant objects\, and thus how far back in time we are look
 ing. In this workshop we will explore the “nuts and bolts” of the phenomen
 a astronomers use to construct the “cosmic distance ladder.”  This worksho
 p is perfect for those teaching astronomy for the first time this fall\, a
 s well as experienced astronomy teachers who are interested in discovering
  new resources and connecting with peers.\n\nParticipants will gain the fo
 llowing through participation in the workshop:\n\n    -Classroom-tested re
 sources and activities that facilitate student-centered learning.\n    -St
 rategies for engaging learners.\n    -Access to astronomy education expert
 s who will facilitate the workshop.\n    -A certificate of completion for 
 participating in 2 clock hours of professional development.\n    -Upon com
 pletion of the entire series of workshops\, participants can earn semester
  graduate units from the University of the Pacific for an additional fee.
 \n\nRegistration: $40\n\nAttendance/Refund Policy\n\nLive attendance is st
 rongly encouraged and expected in order to get the most out of the interac
 tive session. Full refund is available for cancellations up to 14 days pri
 or to the start of the workshop. If you need to cancel please email learn@
 astrosociety.org.\n\n\n\n
X-WR-RELCALID:7484a30c7a17d9fda963a373c7c168a6
X-WR-TIMEZONE:America/Los_Angeles
BEGIN:VTIMEZONE
TZID:America/Los_Angeles
BEGIN:STANDARD
TZNAME:PST
DTSTART:20241103T020000
TZOFFSETFROM:-0700
TZOFFSETTO:-0800
RDATE:20251102T020000
RDATE:20261101T020000
END:STANDARD
BEGIN:DAYLIGHT
TZNAME:PDT
DTSTART:20250309T020000
TZOFFSETFROM:-0800
TZOFFSETTO:-0700
RDATE:20260308T020000
END:DAYLIGHT
END:VTIMEZONE
BEGIN:VEVENT
UID:bff7b620-eabd-444c-a6ef-2d3568e39db2
DTSTAMP:20260421T125332Z
DESCRIPTION:\n\nIn this two-hour workshop\, join experienced teachers who h
 ave taught high school astronomy to cover the “nuts and bolts'' of the “co
 smic distance ladder.” It is said a telescope is a time machine\, allowing
  us to look deep into the past of the Universe. Distance and time are inex
 tricably linked in astronomy. Discover how astronomers determine how far i
 t is to these distant objects\, and thus how far back in time we are looki
 ng. In this workshop we will explore the “nuts and bolts” of the phenomena
  astronomers use to construct the “cosmic distance ladder.”  This workshop
  is perfect for those teaching astronomy for the first time this fall\, as
  well as experienced astronomy teachers who are interested in discovering 
 new resources and connecting with peers.\n\nParticipants will gain the fol
 lowing through participation in the workshop:\n\n    -Classroom-tested res
 ources and activities that facilitate student-centered learning.\n    -Str
 ategies for engaging learners.\n    -Access to astronomy education experts
  who will facilitate the workshop.\n    -A certificate of completion for p
 articipating in 2 clock hours of professional development.\n    -Upon comp
 letion of the entire series of workshops\, participants can earn semester 
 graduate units from the University of the Pacific for an additional fee.\n
 \nRegistration: $40\n\nAttendance/Refund Policy\n\nLive attendance is stro
 ngly encouraged and expected in order to get the most out of the interacti
 ve session. Full refund is available for cancellations up to 14 days prior
  to the start of the workshop. If you need to cancel please email learn@as
 trosociety.org.\n\n\n\n
DTSTART;TZID=America/Los_Angeles:20250723T030000
DTEND;TZID=America/Los_Angeles:20250723T030001
LOCATION:
SUMMARY:Learn@ ASP Online Workshop: The Nuts and Bolts of Teaching Astronom
 y 3: The Scale of the Universe
END:VEVENT
END:VCALENDAR
