BEGIN:VCALENDAR
VERSION:2.0
PRODID:-//astrosociety.org//NONSGML kigkonsult.se iCalcreator 2.30.10//
CALSCALE:GREGORIAN
METHOD:PUBLISH
UID:55b3ba4f-2b04-42bc-840f-b20baa7b7ebe
X-WR-CALDESC:ASP2025 Virtual Symposium\nEyes on the Cosmos - Embracing the 
 Future\nQuestioning\, Investigating\, Adapting\, Connecting\n\nAugust 21 
 \n8:00am PT - 6:00pm PT\n\nJoin us August 21 and take a journey across fou
 r dynamic themes — Questioning\, Investigating\, Adapting\, and Connecting
 . The ASP2025 Symposium invites scientists\, educators\, and communicators
  to explore the evolving relationship between humanity and the universe an
 d to envision a future where our celestial journey becomes a collective ad
 venture.\n\nWhere will this journey lead us?\n\n-Engage with world-class t
 hought leaders as they delve into the big questions: \n\n-What groundbreak
 ing discoveries await us? \n\n-How will advancements in astronomy revoluti
 onize our understanding? \n\n-What strategies do we need to thrive in this
  new reality?\n\n-How do we honor cultural astronomy with the power of sha
 red narratives?\n\n \nSYMPOSIUM FEATURES:\n\no Affordable\no Carbon Neutra
 l\no Scholarships Available\no Recordings of panels and Q&A\no Special fil
 m event the evening before the symposium\n\nRegistration is open through A
 ugust 21\, 2025\, 5pm PT\n\nYou are invited to a free evening documentary 
 film showing\, Wilfred Buck\, on Wednesday\, August 20th.  Cree Elder and 
 Indigenous astronomer\, Wilfred Buck will join post film for a conversatio
 n with guest Danielle Scalice\, Communications and Engagement Lead for the
  NASA Astrobiology Program\n\nDon't miss out on the ASP's 137th Annual Mee
 ting!\n
X-WR-RELCALID:908552cb632e17d3654f82b301783dbc
X-WR-TIMEZONE:America/Los_Angeles
BEGIN:VTIMEZONE
TZID:America/Los_Angeles
BEGIN:STANDARD
TZNAME:PST
DTSTART:20241103T020000
TZOFFSETFROM:-0700
TZOFFSETTO:-0800
RDATE:20251102T020000
RDATE:20261101T020000
END:STANDARD
BEGIN:DAYLIGHT
TZNAME:PDT
DTSTART:20250309T020000
TZOFFSETFROM:-0800
TZOFFSETTO:-0700
RDATE:20260308T020000
END:DAYLIGHT
END:VTIMEZONE
BEGIN:VEVENT
UID:f74cee27-354a-4257-a336-225bcfd51f70
DTSTAMP:20260421T155301Z
DESCRIPTION:ASP2025 Virtual Symposium\nEyes on the Cosmos - Embracing the F
 uture\nQuestioning\, Investigating\, Adapting\, Connecting\n\nAugust 21 \n
 8:00am PT - 6:00pm PT\n\nJoin us August 21 and take a journey across four 
 dynamic themes — Questioning\, Investigating\, Adapting\, and Connecting. 
 The ASP2025 Symposium invites scientists\, educators\, and communicators t
 o explore the evolving relationship between humanity and the universe and 
 to envision a future where our celestial journey becomes a collective adve
 nture.\n\nWhere will this journey lead us?\n\n-Engage with world-class tho
 ught leaders as they delve into the big questions: \n\n-What groundbreakin
 g discoveries await us? \n\n-How will advancements in astronomy revolution
 ize our understanding? \n\n-What strategies do we need to thrive in this n
 ew reality?\n\n-How do we honor cultural astronomy with the power of share
 d narratives?\n\n \nSYMPOSIUM FEATURES:\n\no Affordable\no Carbon Neutral
 \no Scholarships Available\no Recordings of panels and Q&A\no Special film
  event the evening before the symposium\n\nRegistration is open through Au
 gust 21\, 2025\, 5pm PT\n\nYou are invited to a free evening documentary f
 ilm showing\, Wilfred Buck\, on Wednesday\, August 20th.  Cree Elder and I
 ndigenous astronomer\, Wilfred Buck will join post film for a conversation
  with guest Danielle Scalice\, Communications and Engagement Lead for the 
 NASA Astrobiology Program\n\nDon't miss out on the ASP's 137th Annual Meet
 ing!\n
DTSTART;TZID=America/Los_Angeles:20250821T030000
DTEND;TZID=America/Los_Angeles:20250821T030001
LOCATION:
SUMMARY:ASP2025 Virtual Symposium - Eyes on the Cosmos: Embracing the Futur
 e
END:VEVENT
END:VCALENDAR
