BEGIN:VCALENDAR
VERSION:2.0
PRODID:-//astrosociety.org//NONSGML kigkonsult.se iCalcreator 2.30.10//
CALSCALE:GREGORIAN
METHOD:PUBLISH
UID:9904162a-9da2-4e28-af8d-9eb503105ce7
X-WR-CALDESC:Next week\, we’ll be screening Cosmic Dawn\, a NASA+ documenta
 ry that tells the story of the James Webb Space Telescope—how it was desig
 ned\, built\, launched\, and how it's capturing light from the earliest st
 ars and galaxies in the universe.\n\nJoin the SETI Institute Friday\, Augu
 st 22nd at 6:00 PM (PT) for a free virtual movie night featuring a screeni
 ng of 'Cosmic Dawn'\, a new NASA+ documentary that follows the journey of 
 the James Webb Space Telescope (JWST) through its assembly\, testing\, and
  launch\, showcasing the complexity and risks involved in creating a teles
 cope capable of peering billions of years into the past.\n\nAfter the film
 \, stick around for a live conversation with planetary astronomer Dr. Mark
  Showalter\, a senior research scientist at the SETI Institute and expert 
 in planetary rings and moons. Dr. Showalter will walk us through some of t
 he most striking imagery captured by JWST and share what these profound ob
 servations can tell us about the cosmos.\n\nWhether you’re a seasoned spac
 e enthusiast or just curious about the universe\, this is an evening you w
 on’t want to miss. Streaming is free and open to all. Grab some popcorn an
 d join SETI Institute online!\n
X-WR-RELCALID:0a08990aeb5b6925d6623548d1fb44c4
X-WR-TIMEZONE:America/Los_Angeles
BEGIN:VTIMEZONE
TZID:America/Los_Angeles
BEGIN:STANDARD
TZNAME:PST
DTSTART:20241103T020000
TZOFFSETFROM:-0700
TZOFFSETTO:-0800
RDATE:20251102T020000
RDATE:20261101T020000
END:STANDARD
BEGIN:DAYLIGHT
TZNAME:PDT
DTSTART:20250309T020000
TZOFFSETFROM:-0800
TZOFFSETTO:-0700
RDATE:20260308T020000
END:DAYLIGHT
END:VTIMEZONE
BEGIN:VEVENT
UID:871d89b2-a782-463c-946f-cd7a5042b55b
DTSTAMP:20260421T142532Z
DESCRIPTION:Next week\, we’ll be screening Cosmic Dawn\, a NASA+ documentar
 y that tells the story of the James Webb Space Telescope—how it was design
 ed\, built\, launched\, and how it's capturing light from the earliest sta
 rs and galaxies in the universe.\n\nJoin the SETI Institute Friday\, Augus
 t 22nd at 6:00 PM (PT) for a free virtual movie night featuring a screenin
 g of 'Cosmic Dawn'\, a new NASA+ documentary that follows the journey of t
 he James Webb Space Telescope (JWST) through its assembly\, testing\, and 
 launch\, showcasing the complexity and risks involved in creating a telesc
 ope capable of peering billions of years into the past.\n\nAfter the film\
 , stick around for a live conversation with planetary astronomer Dr. Mark 
 Showalter\, a senior research scientist at the SETI Institute and expert i
 n planetary rings and moons. Dr. Showalter will walk us through some of th
 e most striking imagery captured by JWST and share what these profound obs
 ervations can tell us about the cosmos.\n\nWhether you’re a seasoned space
  enthusiast or just curious about the universe\, this is an evening you wo
 n’t want to miss. Streaming is free and open to all. Grab some popcorn and
  join SETI Institute online!\n
DTSTART;TZID=America/Los_Angeles:20250822T030000
DTEND;TZID=America/Los_Angeles:20250822T030001
LOCATION:
SUMMARY:Partner Event - SETI Institute Talk: Cosmic Dawn\, a NASA+ document
 ary that tells the story of the James Webb Space Telescope
END:VEVENT
END:VCALENDAR
