BEGIN:VCALENDAR
VERSION:2.0
PRODID:-//astrosociety.org//NONSGML kigkonsult.se iCalcreator 2.30.10//
CALSCALE:GREGORIAN
METHOD:PUBLISH
UID:ee2afad0-68d7-4ef6-aa8b-b055c6da1819
X-WR-CALDESC:Last year\, the ASP offered a free showing of a special docume
 ntary\, 'Small Town Universe'. Thanks to a generous sponsorship from Rescu
 ed Media along with Emmy Nominated Director Katie Dellamaggiore\, the ASP 
 Community is invited to another virtual screening of the award winning\, f
 eature length documentary 'Small Town Universe' on Thursday\, September 4t
 h\, 2025 at 7:30 pm EST. \n\nThere will be a short panel after the screeni
 ng where you can ask questions about the film with the director\, film sub
 jects\, and special guests\, and we will be sharing information about the 
 community efforts to support the Green Bank Observatory as well.
X-WR-RELCALID:d4b30ae6fecc5d1a17cf5c81e1539cad
X-WR-TIMEZONE:America/Los_Angeles
BEGIN:VTIMEZONE
TZID:America/Los_Angeles
BEGIN:STANDARD
TZNAME:PST
DTSTART:20241103T020000
TZOFFSETFROM:-0700
TZOFFSETTO:-0800
RDATE:20251102T020000
RDATE:20261101T020000
END:STANDARD
BEGIN:DAYLIGHT
TZNAME:PDT
DTSTART:20250309T020000
TZOFFSETFROM:-0800
TZOFFSETTO:-0700
RDATE:20260308T020000
END:DAYLIGHT
END:VTIMEZONE
BEGIN:VEVENT
UID:de37443b-d7f4-4fe3-b05d-077320d301f6
DTSTAMP:20260421T162955Z
DESCRIPTION:Last year\, the ASP offered a free showing of a special documen
 tary\, 'Small Town Universe'. Thanks to a generous sponsorship from Rescue
 d Media along with Emmy Nominated Director Katie Dellamaggiore\, the ASP C
 ommunity is invited to another virtual screening of the award winning\, fe
 ature length documentary 'Small Town Universe' on Thursday\, September 4th
 \, 2025 at 7:30 pm EST. \n\nThere will be a short panel after the screenin
 g where you can ask questions about the film with the director\, film subj
 ects\, and special guests\, and we will be sharing information about the c
 ommunity efforts to support the Green Bank Observatory as well.
DTSTART;TZID=America/Los_Angeles:20250904T030000
DTEND;TZID=America/Los_Angeles:20250904T030001
LOCATION:
SUMMARY:Special Virtual Documentary Showing 'Small Town Universe' open to t
 he public
END:VEVENT
END:VCALENDAR
