BEGIN:VCALENDAR
VERSION:2.0
PRODID:-//astrosociety.org//NONSGML kigkonsult.se iCalcreator 2.30.10//
CALSCALE:GREGORIAN
METHOD:PUBLISH
UID:479e78b7-8aae-4399-8e79-6569489e19cb
X-WR-CALDESC:\nJoin the NASA Night Sky Network on Tuesday\, September 16\, 
 at 6:00 PM Pacific Time (9:00 PM Eastern) along with Becca Robinson\, wher
 e we’ll discuss NASA’s Multi-slit Solar Explorer (MUSE) could help us unde
 rstand the Sun better.\n\nAbout Becca Robinson:\nDr. Becca Robinson is a S
 un scientist\, world traveler\, rock collector\, aurora chaser\, stargazer
 \, and the outreach lead for NASA’s upcoming Multi-slit Solar Explorer (MU
 SE) mission. Whether greeting visitors at Badlands National Park or cruisi
 ng through the Norwegian Arctic\, she enjoys spreading the beauty of solar
  science everywhere she goes!\n\nBecca received her BSc in Physics and BSc
  in Astrophysics from Michigan State University\, her MSc in Geophysics fr
 om the University of Iceland\, and her PhD in theoretical astrophysics fro
 m the University of Oslo.\n\n\nNight Sky Network \nhttps://nightsky.jpl.na
 sa.gov\n\nAstronomical Society of the Pacific\nhttps://astrosociety.org
X-WR-RELCALID:2444795a05f2356dfc73c383e0476a3d
X-WR-TIMEZONE:America/Los_Angeles
BEGIN:VTIMEZONE
TZID:America/Los_Angeles
BEGIN:STANDARD
TZNAME:PST
DTSTART:20241103T020000
TZOFFSETFROM:-0700
TZOFFSETTO:-0800
RDATE:20251102T020000
RDATE:20261101T020000
END:STANDARD
BEGIN:DAYLIGHT
TZNAME:PDT
DTSTART:20250309T020000
TZOFFSETFROM:-0800
TZOFFSETTO:-0700
RDATE:20260308T020000
RDATE:20270314T020000
END:DAYLIGHT
END:VTIMEZONE
BEGIN:VEVENT
UID:3ef4ea44-ee8a-4edd-8fe6-5834b8565370
DTSTAMP:20260421T163253Z
DESCRIPTION:\nJoin the NASA Night Sky Network on Tuesday\, September 16\, a
 t 6:00 PM Pacific Time (9:00 PM Eastern) along with Becca Robinson\, where
  we’ll discuss NASA’s Multi-slit Solar Explorer (MUSE) could help us under
 stand the Sun better.\n\nAbout Becca Robinson:\nDr. Becca Robinson is a Su
 n scientist\, world traveler\, rock collector\, aurora chaser\, stargazer\
 , and the outreach lead for NASA’s upcoming Multi-slit Solar Explorer (MUS
 E) mission. Whether greeting visitors at Badlands National Park or cruisin
 g through the Norwegian Arctic\, she enjoys spreading the beauty of solar 
 science everywhere she goes!\n\nBecca received her BSc in Physics and BSc 
 in Astrophysics from Michigan State University\, her MSc in Geophysics fro
 m the University of Iceland\, and her PhD in theoretical astrophysics from
  the University of Oslo.\n\n\nNight Sky Network \nhttps://nightsky.jpl.nas
 a.gov\n\nAstronomical Society of the Pacific\nhttps://astrosociety.org
DTSTART;TZID=America/Los_Angeles:20250916T180000
DTEND;TZID=America/Los_Angeles:20250916T190000
LOCATION:
SUMMARY:NSN Webinar Series - Secrets of the Sun with Becca Robinson
END:VEVENT
END:VCALENDAR
