BEGIN:VCALENDAR
VERSION:2.0
PRODID:-//astrosociety.org//NONSGML kigkonsult.se iCalcreator 2.30.10//
CALSCALE:GREGORIAN
METHOD:PUBLISH
UID:e6271a4b-068b-4bf2-b48a-56e1ae5f58cc
X-WR-CALDESC:*As of October 3\, due to the Government Shutdown\, this event
  is now canceled.*\n\nJoin the NASA Night Sky Network on Saturday\, Octobe
 r 4\, at 4:30 PM Pacific Time (7:30 PM Eastern) for live views of the Moon
  on International Observe the Moon Night! \n\nThe goal of International Ob
 serve the Moon Night is to unite people around the world in a celebration 
 of lunar observation\, science\, exploration\, arts\, and culture. You can
  join International Observe the Moon Night from wherever you are. The even
 t occurs annually in September or October\, when the Moon is around first 
 quarter. Attend or host a virtual or in-person event\, or observe the Moon
  from home.
X-WR-RELCALID:defb8724b26339669e93649e0dce4d45
X-WR-TIMEZONE:America/Los_Angeles
BEGIN:VTIMEZONE
TZID:America/Los_Angeles
BEGIN:STANDARD
TZNAME:PST
DTSTART:20241103T020000
TZOFFSETFROM:-0700
TZOFFSETTO:-0800
RDATE:20251102T020000
RDATE:20261101T020000
END:STANDARD
BEGIN:DAYLIGHT
TZNAME:PDT
DTSTART:20250309T020000
TZOFFSETFROM:-0800
TZOFFSETTO:-0700
RDATE:20260308T020000
RDATE:20270314T020000
END:DAYLIGHT
END:VTIMEZONE
BEGIN:VEVENT
UID:ac0341af-61a0-44e7-8a20-8a9238f716e8
DTSTAMP:20260421T175040Z
DESCRIPTION:*As of October 3\, due to the Government Shutdown\, this event 
 is now canceled.*\n\nJoin the NASA Night Sky Network on Saturday\, October
  4\, at 4:30 PM Pacific Time (7:30 PM Eastern) for live views of the Moon 
 on International Observe the Moon Night! \n\nThe goal of International Obs
 erve the Moon Night is to unite people around the world in a celebration o
 f lunar observation\, science\, exploration\, arts\, and culture. You can 
 join International Observe the Moon Night from wherever you are. The event
  occurs annually in September or October\, when the Moon is around first q
 uarter. Attend or host a virtual or in-person event\, or observe the Moon 
 from home.
DTSTART;TZID=America/Los_Angeles:20251004T030000
DTEND;TZID=America/Los_Angeles:20251004T030001
LOCATION:
SUMMARY:Canceled Event: NSN Webinar: 2025 International Observe the Moon Ni
 ght
END:VEVENT
END:VCALENDAR
