BEGIN:VCALENDAR
VERSION:2.0
PRODID:-//astrosociety.org//NONSGML kigkonsult.se iCalcreator 2.30.10//
CALSCALE:GREGORIAN
METHOD:PUBLISH
UID:29884dfc-0de0-45f6-bffe-f12e1aa33fe5
X-WR-CALDESC:Join Theresa Summer\, ASP's Astronomy Educator on October 21\,
  2025 for a Learn@ ASP Online Workshop - Young Children as Scientists: Rev
 isiting My Sky Tonight \n\nMy Sky Tonight was a collaborative program and 
 research initiative focused on engaging 3 to 5-year-old children in scienc
 e practices through hands-on astronomy activities\, funded by the National
  Science Foundation (NSF). The project team created a set of research-base
 d\, hands-on astronomy activities that are rich in science practices and d
 esigned to be developmentally appropriate for pre-K children\, covering to
 pics such as changing shadows\, Moon phases\, day and night\, and space ex
 ploration.\n\nThis workshop will share best practices of working with youn
 g children\, some of the online assets available to informal educators\, a
 nd activities that are frequently used by libraries\, museums\, and parks.
  In addition\, we will share a list of materials used for running the acti
 vities\, and instructions for crafting your own substitutes or how you can
  buy the original kit of materials.\n\nParticipants will gain the followin
 g through participation in the workshop:\n\n    Guidelines for engaging wi
 th young children\n    Discussion among participants sharing experiences w
 ith engaging young learners\n    Activity ideas\n    Strategies we have fo
 und successful at engaging learners of all ages\n    Access to astronomy e
 xperts who will facilitate the workshop\n    A certificate of completion f
 or participating in 2 clock hours of professional development.\n\nRegistra
 tion: $40\n\nAttendance/Refund Policy\n\nLive attendance is strongly encou
 raged and expected in order to get the most out of the interactive session
 . A recording will be available for those who cannot attend live or who wo
 uld like to review the content. Full refund is available for cancellations
  up to 14 days prior to the start of the workshop. If you need to cancel p
 lease email learn@astrosociety.org.
X-WR-RELCALID:35a5e3d72f5314c098f7ea2bf9e8a948
X-WR-TIMEZONE:America/Los_Angeles
BEGIN:VTIMEZONE
TZID:America/Los_Angeles
BEGIN:STANDARD
TZNAME:PST
DTSTART:20241103T020000
TZOFFSETFROM:-0700
TZOFFSETTO:-0800
RDATE:20251102T020000
RDATE:20261101T020000
END:STANDARD
BEGIN:DAYLIGHT
TZNAME:PDT
DTSTART:20250309T020000
TZOFFSETFROM:-0800
TZOFFSETTO:-0700
RDATE:20260308T020000
RDATE:20270314T020000
END:DAYLIGHT
END:VTIMEZONE
BEGIN:VEVENT
UID:bbd9dec0-6aa1-487c-a2fe-ff0c1f68078a
DTSTAMP:20260421T175040Z
DESCRIPTION:Join Theresa Summer\, ASP's Astronomy Educator on October 21\, 
 2025 for a Learn@ ASP Online Workshop - Young Children as Scientists: Revi
 siting My Sky Tonight \n\nMy Sky Tonight was a collaborative program and r
 esearch initiative focused on engaging 3 to 5-year-old children in science
  practices through hands-on astronomy activities\, funded by the National 
 Science Foundation (NSF). The project team created a set of research-based
 \, hands-on astronomy activities that are rich in science practices and de
 signed to be developmentally appropriate for pre-K children\, covering top
 ics such as changing shadows\, Moon phases\, day and night\, and space exp
 loration.\n\nThis workshop will share best practices of working with young
  children\, some of the online assets available to informal educators\, an
 d activities that are frequently used by libraries\, museums\, and parks. 
 In addition\, we will share a list of materials used for running the activ
 ities\, and instructions for crafting your own substitutes or how you can 
 buy the original kit of materials.\n\nParticipants will gain the following
  through participation in the workshop:\n\n    Guidelines for engaging wit
 h young children\n    Discussion among participants sharing experiences wi
 th engaging young learners\n    Activity ideas\n    Strategies we have fou
 nd successful at engaging learners of all ages\n    Access to astronomy ex
 perts who will facilitate the workshop\n    A certificate of completion fo
 r participating in 2 clock hours of professional development.\n\nRegistrat
 ion: $40\n\nAttendance/Refund Policy\n\nLive attendance is strongly encour
 aged and expected in order to get the most out of the interactive session.
  A recording will be available for those who cannot attend live or who wou
 ld like to review the content. Full refund is available for cancellations 
 up to 14 days prior to the start of the workshop. If you need to cancel pl
 ease email learn@astrosociety.org.
DTSTART;TZID=America/Los_Angeles:20251021T030000
DTEND;TZID=America/Los_Angeles:20251021T030001
LOCATION:
SUMMARY:Learn@ ASP Online Workshop - Young Children as Scientists: Revisiti
 ng My Sky Tonight
END:VEVENT
END:VCALENDAR
